Workbook

Sheet งบกลาง
A1: รายงานรายละเอียดประมาณการรายจ่ายงบประมาณรายจ่ายทั่วไป
A2: ประจำปีงบประมาณ พ.ศ.2560
A3: เทศบาลตำบลพนางตุง
A4: อำเภอควนขนุน จังหวัดพัทลุง
A5: ประมาณการรายจ่ายรวมทั้งสิ้น | E5: จำนวน | F5: =บริหารงานทั่วไป!J6+บริหารงานทั่วไป!J7+บริหารงานทั่วไป!J8+บริหารงานทั่วไป!J9+บริหารงานทั่วไป!J11+บริหารงานทั่วไป!J12+บริหารงานทั่วไป!J13+บริหารงานทั่วไป!J14+บริหารงานทั่วไป!J15+บริหารงานทั่วไป!J17 -> 63370000 | G5: บาท
A6: จ่ายจากรายได้จัดเก็บเอง หมวดภาษีจัดสรร และหมวดเงินอุดหนุนทั่วไป แยกเป็น
A7: แผนงานงบกลาง
A8: งบกลาง | E8: รวม | F8: =F9 -> 19402229 | G8: บาท | K8: =F8 -> 19402229
B9: งบกลาง | E9: รวม | F9: =F10+F79 -> 19402229 | G9: บาท
C10: งบกลาง | E10: รวม | F10: =F11+F17+F21+F25+F34+F41+F71 -> 19362809 | G10: บาท
C11: เงินสมทบกองทุนประกันสังคม | E11: จำนวน | F11: =L11 -> 247866 | G11: บาท | K11: =บริหารงานทั่วไป!F67+บริหารงานทั่วไป!F71+บริหารงานทั่วไป!F318+บริหารงานทั่วไป!F322+การศึกษา!F25+การศึกษา!F29+การศึกษา!F116+การศึกษา!F121+เคหะและชุมชน!F25+เคหะและชุมชน!F29 -> 4957320 | L11: =K11*5/100 -> 247866
C12: เพื่อจ่ายเป็นเงินสมทบ กองทุนประกันสังคมในอัตราร้อยละ 5
A13: ของค่าตอบแทนพนักงานจ้าง โดยให้ถือปฏิบัติตามหนังสือสำนักงาน ก.จ.ก.ท.
A14: และ ก.อบต. ด่วนที่สุดที่ มท 0809.5/ว 9 ลงวันที่ 22 มกราคม 2557 พระราช
A15: บัญญัติประกันสังคม พ.ศ. 2533 และหนังสือสำนักงาน ก.จ.,ก.ท.และก.อบต.ด่วนที่สุด
A16: ที่ มท 0809.5/ว 81 ลงวันที่ 10 กรกฎาคม 2557 ตั้งจ่ายจากเงินรายได้
C17: เบี้ยยังชีพผู้สูงอายุ | E17: จำนวน | F17: 14857200 | G17: บาท
C18: เพื่อจ่ายเป็นเงินสนับสนุนการสร้างหลักประกันรายได้ให้แก่ผู้สูงอายุ
A19: โดยให้ถือปฏิบัติตามระเบียบกระทรวงมหาดไทย ว่าด้วยการจ่ายเงินสงเคราะห์เพื่อ
A20: การยังชีพขององค์กรปกครองส่วนท้องถิ่น พ.ศ.2548
C21: เบี้ยยังชีพคนพิการ | E21: จำนวน | F21: 2563200 | G21: บาท
C22: เพื่อจ่ายเป็นเงินสนับสนุนสวัสดิการทางสังคมให้แก่ผู้พิการหรือ
A23: ทุพพลภาพ โดยให้ถือปฏิบัติตามระเบียบกระทรวงมหาดไทย ว่าด้วยการจ่ายเงิน
A24: สงเคราะห์เพื่อการยังชีพขององค์กรปกครองส่วนท้องถิ่น พ.ศ.2548
C25: เบี้ยยังชีพผู้ป่วยเอดส์ | E25: จำนวน | F25: 180000 | G25: บาท | J25: 243047
C26: เพื่อจ่ายเป็นเงินช่วยเหลือเบี้ยยังชีพผู้ป่วยเอดส์ที่แพทย์ได้รับรอง | J26: 637767
A27: และทำการวินิจฉัยแล้ว และมีความเป็นอยู่ยากจน หรือถูกทอดทิ้งขาดผู้อุปการะ | J27: =J25+J26 -> 880814
A28: ดูแลไม่สามารถประกอบอาชีพเลี้ยงตนเองได้ โดยผู้ป่วยเอดส์ที่มีสิทธิจะได้รับเบี้ย
A29: ยังชีพคนละ 500 บาทต่อเดือน โดยให้ถือปฏิบัติตามระเบียบกระทรวงมหาดไทย | J29: 23099274 | K29: =J29*0.00167 -> 38575.788
A30: ว่าด้วยการจ่ายเงินสงเคราะห์เพื่อการยังชีพขององค์กรปกครองส่วนท้องถิ่น
A31: พ.ศ.2548
C34: สำรองจ่าย | E34: จำนวน | F34: 646077 | G34: บาท
C35: ตั้งจ่ายไว้เพื่อกรณีฉุกเฉิน ที่มีสาธารณภัยเกิดขึ้น หรือบรรเทา
A36: ปัญหาความเดือดร้อนของประชาชนเป็นส่วนรวมเท่านั้น โดยถือปฏิบัติตามหนังสือ
A37: กระทรวงมหาดไทย ด่วนมาก ที่ มท 0313.4/ว 667 ลงวันที่ 12 มีนาคม 2545
A38: หนังสือกระทรวงมหาดไทย ด่วนมาก ที่ มท 0808.2/ว 3456 ลงวันที่ 19 มิถุนายน
A39: 2558 และหนังสือกระทรวงมหาดไทย ที่ มท 0808.2/ว 3215 ลงวันที่ 6 มิถุนายน
A40: 2559
C41: รายจ่ายตามข้อผูกพัน | E41: รวม | F41: =F42+F50+F56+F67 -> 374565.78 | G41: บาท
C42: ค่าบำรุงสมาคมสันนิบาตเทศบาลแห่งประเทศไทย | E42: จำนวน | F42: 38575.78 | G42: บาท
C43: เพื่อจ่ายเป็นค่าบำรุงสมาคมสันนิบาตเทศบาลแห่งประเทศไทย
A44: โดยตั้งจ่าย ตามหนังสือกระทรวงมหาดไทย ด่วนมากที่ มท 0213.4/ว 2787
A45: ลงวันที่ 18 พฤศจิกายน 2542 โดยตั้งไว้เป็นรายปี อัตราร้อยละเศษหนึ่งส่วนหก
A46: ของรายรับจริงในปีที่ล่วงมาแล้ว (ไม่รวมเงินกู้ เงินจ่ายขาดเงินสะสม และเงินอุดหนุน
A47: ทุกประเภท) ซึ่งมีรายรับจริงของปีงบประมาณ 2558 เป็นเงิน 23,099,274.31 บาท
A48: เป็นค่าบำรุงสมาคมสันนิบาตเทศบาลแห่งประเทศไทย 38,575.78 บาท ขอตั้งไว้
A49: เป็นเงิน 38,576 บาท
C50: ค่าใช้จ่ายในการจัดจราจร | E50: จำนวน | F50: 80000 | G50: บาท
C51: เพื่อจ่ายเป็นค่าใช้จ่ายในการจัดการจราจรภายในเขตเทศบาล | J51: =#REF!*45 -> #REF!
A52: โดยตั้งจ่ายจากเงินรายได้ ประเภทค่าปรับผู้กระทำผิดกฎหมายจราจรทางบก | J52: =J51/2 -> #REF!
A53: และเงินรายได้ของเทศบาล เพื่อจ่ายเป็นค่าทาสี ตีเส้นจราจร แผงกั้นจัดทำป้าย
A54: สัญญาณไฟจราจร หรืออุปกรณ์ที่ใช้ในการควบคุมสัญจร และอื่นๆ ตามหนังสือ
A55: กระทรวงมหาดไทย ด่วนมาก ที่ มท 0313.4/ว 3203 ลงวันที่ 4 ตุลาคม 2539
C56: เงินสมทบกองทุนหลักประกันสุขภาพ | E56: จำนวน | F56: 225990 | G56: บาท
C57: เพื่อจ่ายเป็นเงินสมทบกองทุนหลักประกันสุขภาพ โดยตั้งจ่ายไว้
A58: ไม่น้อยกว่าร้อยละ 50 ของค่าบริการสาธารณสุขที่ได้รับจากสำนักงานกองทุน
A59: หลักประกันสุขภาพแห่งชาติ ตามหนังสือ สำนักงานหลักประกันสุขภาพแห่งชาติ
A60: ที่ สปสช.5.33/ว 0190 เรื่อง การตั้งงบประมาณสมทบกองทุนหลักประกันสุขภาพ
A61: ระดับท้องถิ่น ลงวันที่ 16 กรกฎาคม 2557 โดยประชากรในเขตเทศบาลตำบล
A62: พนางตุง ข้อมูล ณ วันที่ 9 สิงหาคม 2559 มีจำนวน 10,044 คนๆละ 45 บาท
A63: เป็นเงิน 451,980 บาท
C67: ทุนการศึกษาสำหรับครูผู้ดูแลเด็ก | E67: จำนวน | F67: 30000 | G67: บาท
C68: เพื่อจ่ายเป็นทุนการศึกษาสำหรับผู้ดูแลเด็ก จำนวน 1 ราย ตาม
A69: โครงการความร่วมมือทางวิชาการระหว่างกรมส่งเสริมการปกครองท้องถิ่น กับ
A70: มหาวิทยาลัยราชภัฏสวนดุสิต
C71: เงินสมทบกองทุนบำเหน็จบำนาญข้าราชการส่วนท้องถิ่น | E71: จำนวน | F71: 493900 | G71: บาท
C72: เพื่อจ่ายเป็นเงินสมทบ กองทุนบำเหน็จบำนาญข้าราชการส่วน
A73: ท้องถิ่น (กบท.) ตามพระราชบัญญัติบำเหน็จบำนาญข้าราชการส่วนท้องถิ่น พ.ศ.
A74: 2500 โดยคำนวณตั้งจ่ายร้อยละ 2 ของประมาณการรายรับทุกหมวด ทุกประเภท
A75: ยกเว้นประเภทพันธบัตร เงินกู้ เงินที่มีผู้อุทิศให้/เงินบริจาค และเงินอุดหนุน ซึ่งมี
A76: ยอดประมาณการรายรับทั้งสิ้น 24,695,000 บาท คิดเป็น 493,900 บาท ตั้งจ่าย
A77: จากเงินรายได้
B79: บำเหน็จ/บำนาญ | E79: รวม | F79: =F80 -> 39420 | G79: บาท
C80: เงินบำเหน็จลูกจ้างประจำ | E80: จำนวน | F80: 39420 | G80: บาท
C81: เพื่อจ่ายเป็นเงินบำเหน็จลูกจ้างประจำ จำนวน 1 อัตรา โดยถือ
A82: ปฏิบัติตามหนังสือกรมส่งเสริมการปกครองท้องถิ่น ที่ มท 0808.5/ว 896
A83: ลงวันที่ 29 มีนาคม 2556 ตั้งจ่ายจากเงินรายได้

Sheet บริหารงานทั่วไป
A1: รายงานรายละเอียดประมาณการรายจ่ายงบประมาณรายจ่ายทั่วไป
A2: ประจำปีงบประมาณ พ.ศ.2560
A3: เทศบาลตำบลพนางตุง
A4: อำเภอควนขนุน จังหวัดพัทลุง
A5: แผนงานบริหารงานทั่วไป
A6: งานบริหารทั่วไป | E6: รวม | F6: =F7+F83+F219 -> 16278000 | G6: บาท | I6: แผนงานบริหารทั่วไป | J6: =F6+F286+F298 -> 19691480
B7: งบบุคลากร | E7: รวม | F7: =F8+F43 -> 10661700 | G7: บาท | I7: แผนงานการรักษาความสงบภายใน | J7: =การรักษาความสงบภายใน!F6 -> 366000
C8: เงินเดือน (ฝ่ายการเมือง) | E8: รวม | F8: =F9+F15+F22+F29+F36 -> 2624640 | G8: บาท | I8: แผนงานการศึกษา | J8: =การศึกษา!F6+การศึกษา!F108 -> 9933041
C9: เงินเดือนนายก/รองนายก | E9: จำนวน | F9: 695520 | G9: บาท | I9: แผนงานสาธารณสุข | J9: =สาธารณสุข!F6+สาธารณสุข!F14+สาธารณสุข!F26 -> 929210
C10: เพื่อจ่ายเป็นเงินเดือน นายกเทศมนตรี จำนวน 27,600.-บาท | I10: แผนงานสังคมสงเคราะห์ | J10: =สังคมสงเคราะห์!F6 -> 0
A11: ต่อเดือน 1 อัตรา และรองนายกเทศมนตรี จำนวน 15,180.-บาท ต่อเดือน 2 | I11: แผนงานเคหะและชุมชน | J11: =เคหะและชุมชน!F6+เคหะและชุมชน!F112 -> 4032040
A12: อัตรา ตามบัญชีอัตราเงินเดือน และค่าตอบแทนแนบท้าย ระเบียบกระทรวง | I12: แผนงานสร้างความเข้มแข็งชุมชน | J12: =สร้างความเข้มแข็งของชุมชน!F6 -> 70000
A13: มหาดไทย ว่าด้วยเงินเดือน เงินค่าตอบแทน และประโยชน์ตอบแทนอย่างอื่นของ | I13: แผนงานการศาสนาวัฒนธรรมฯ | J13: =การศาสนาวัฒนธรรมและนันทนาการ!F6+การศาสนาวัฒนธรรมและนันทนาการ!F24+การศาสนาวัฒนธรรมและนันทนาการ!F51 -> 1340000
A14: นายกเทศมนตรี รองนายกเทศมนตรี สมาชิกสภาเทศบาลฯ พ.ศ. 2554 (ข้อ 8) | I14: แผนงานอุตสาหกรรมและการโยธา | J14: =อุตสาหกรรมและการโยธา!F6 -> 5076000
C15: เงินค่าตอบแทนประจำตำแหน่งนายก/รองนายก | E15: จำนวน | F15: 120000 | G15: บาท | I15: แผนงานการเกษตร | J15: =การเกษตร!F6+การเกษตร!F28 -> 2530000
C16: เพื่อจ่ายเป็นเงินค่าตอบแทน ประจำตำแหน่งนายกเทศมนตรี | I16: แผนงานการพาณิชย์ | J16: 0
A17: จำนวน 4,000.- บาท ต่อเดือน 1 อัตรา และรองนายกเทศมนตรี จำนวน | I17: แผนงานงบกลาง | J17: =งบกลาง!F8 -> 19402229
A18: 3,000.-บาท ต่อเดือน 2 อัตรา ตามบัญชีอัตราเงินเดือน และค่าตอบแทนแนบท้าย | I18: รวม | J18: =J6+J7+J8+J9+J11+J12+J13+J14+J15+J17 -> 63370000
A19: ระเบียบกระทรวงมหาดไทย ว่าด้วยเงินเดือน เงินค่าตอบแทน และประโยชน์ | I19: ประมาณการรายรับ | J19: ='[1]8.รายละเอียดประมาณการรายรับ'!$B$6 -> 63500000
A20: ตอบแทนอย่างอื่น ของนายกเทศมนตรี รองนายกเทศมนตรี สมาชิกสภา | I20: คงเหลืองบลงทุน | J20: =J19-J18 -> 130000.22
A21: เทศบาลฯ พ.ศ.2554 (ข้อ 8)
C22: เงินค่าตอบแทนพิเศษนายก/รองนายก | E22: จำนวน | F22: 120000 | G22: บาท
C23: เพื่อจ่ายเป็นค่าตอบแทนพิเศษ ตำแหน่งนายกเทศมนตรี
A24: จำนวน 4,000.- บาท ต่อเดือน จำนวน 1 อัตรา และรองนายกเทศมนตรี
A25: จำนวน 3,000.- บาท ต่อเดือนจำนวน 2 อัตรา ตามบัญชีอัตราเงินเดือน และ
A26: ค่าตอบแทนแนบท้าย ระเบียบกระทรวงมหาดไทย ว่าด้วยเงินเดือน เงินค่าตอบ
A27: แทน และประโยชน์ตอบแทนอย่างอื่นของนายกเทศมนตรี รองนายกเทศมนตรี
A28: สมาชิกสภาเทศบาลฯ พ.ศ.2554 (ข้อ 8)
C29: เงินค่าตอบแทนเลขานุการ/ที่ปรึกษานายกเทศมนตรี | E29: จำนวน | F29: 198720 | G29: บาท
C30: เพื่อจ่ายเป็นเงินค่าตอบแทน รายเดือนเลขานุการนายกเทศมนตรี
A31: จำนวน 9,660.- บาท ต่อเดือน 1 อัตรา และที่ปรึกษานายกเทศมนตรี จำนวน
A32: 6,900.- บาท ต่อเดือน 1 อัตรา ตามบัญชีอัตราเงินเดือน และค่าตอบแทน แนบ
A33: ท้ายระเบียบกระทรวงมหาดไทย ว่าด้วยเงินเดือน เงินค่าตอบแทนและประโยชน์
A34: ตอบแทนอย่างอื่นของนายกเทศมนตรี รองนายกเทศมนตรี สมาชิกสภาเทศบาลฯ
A35: พ.ศ.2554 (ข้อ 8)
C36: เงินค่าตอบแทนสมาชิกสภาองค์กรปกครองส่วนท้องถิ่น | E36: จำนวน | F36: 1490400 | G36: บาท
C37: เพื่อจ่ายเป็นเงินค่าตอบแทนประธานสภา จำนวน 15,180.-บาท
A38: ต่อเดือน 1 อัตรา รองประธานสภา จำนวน 12,420.- บาท ต่อเดือน 1 อัตรา
A39: และสมาชิกสภาเทศบาล จำนวน 9,660.- บาท ต่อเดือน จำนวน 10 อัตรา
A40: ตามบัญชีอัตราเงินเดือน และค่าตอบแทน แนบท้ายระเบียบกระทรวงมหาด
A41: ไทย ว่าด้วยเงินเดือน เงินค่าตอบแทน และประโยชน์ตอบแทนอย่างอื่นของ
A42: นายกเทศมนตรี รองนายกเทศมนตรี สมาชิกสภาเทศบาลฯ พ.ศ.2544 (ข้อ 8)
C43: เงินเดือน (ฝ่ายประจำ) | E43: รวม | F43: =F44+F49+F56+F67+F71+F78 -> 8037060 | G43: บาท
C44: เงินเดือนพนักงาน | E44: จำนวน | F44: =[2]เงินเดือน!$I$23 -> 4530720 | G44: บาท
C45: เพื่อจ่ายเป็นเงินเดือนพนักงานเทศบาล พร้อมทั้งเงินปรับปรุงเงิน
A46: เดือนประจำปี ตามตำแหน่ง และอัตรา ตามนัยประกาศ ก.ท. เรื่องมาตรฐานกลาง
A47: การบริหารงานบุคคลส่วนท้องถิ่น (ฉบับที่ 5) พ.ศ.2558 จำนวน 16 อัตรา
A48: ตั้งจ่ายจากเงินรายได้ (สำนักปลัดเทศบาล)
C49: เงินเพิ่มต่างๆของพนักงาน | E49: รวม | F49: =F50+F53 -> 58320 | G49: บาท
C50: เงินเพิ่มพิเศษสำหรับการสู้รบ (พ.ส.ร.) | E50: จำนวน | F50: 4320 | G50: บาท
C51: เพื่อจ่ายเป็นเงินเพิ่มพิเศษสำหรับการสู้รบ (พ.ส.ร.) ให้กับพนักงาน
A52: เทศบาลที่มีสิทธิได้รับ จำนวน 1 อัตรา ตั้งจ่ายจากเงินรายได้
C53: เงินเพิ่มสำหรับตำแหน่งที่มีเหตุพิเศษ ตำแหน่ง นิติกร (พ.ต.ก) | E53: จำนวน | F53: 54000 | G53: บาท
C54: เพื่อจ่ายเป็นเงินเพิ่มสำหรับตำแหน่งที่มีเหตุพิเศษ ตำแหน่ง นิติกร
A55: (พ.ต.ก) จำนวน 1 อัตรา ตั้งจ่ายจากเงินรายได้
C56: เงินประจำตำแหน่ง | E56: จำนวน | F56: 162000 | G56: บาท
C57: เพื่อจ่ายเป็นเงินประจำตำแหน่งให้แก่ปลัดเทศบาล ระดับกลาง
A58: จำนวน 7,000.- บาท ต่อเดือน 1 อัตรา หัวหน้าสำนักปลัดเทศบาล ระดับต้น
A59: จำนวน 3,500.- บาท ต่อเดือน 1 อัตรา หัวหน้าฝ่ายอำนวยการ ระดับต้น
A60: จำนวน 1,500.- บาท ต่อเดือน 1 อัตรา หัวหน้าฝ่ายปกครอง ระดับต้น จำนวน
A61: 1,500.- บาท ต่อเดือน 1 อัตรา ตามประกาศคณะกรรมการกลางพนักงานเทศบาล
A62: เรื่อง มาตรฐานทั่วไปเกี่ยวกับอัตราเงินเดือน วิธีการจ่ายเงินเดือนและประโยชน์
A63: ตอบแทนอื่น (ฉบับที่ 7) ลงวันที่ 7 มีนาคม 2559 ตั้งจ่ายจากเงินรายได้
C67: ค่าตอบแทนพนักงานจ้าง | E67: จำนวน | F67: 2881320 | G67: บาท | I67: 2881320
C68: เพื่อจ่ายเป็นเงินค่าตอบแทน ให้แก่พนักงานจ้างตามอัตราที่กำหนด
A69: โดยคำนวณตั้งจ่ายไว้ไม่เกิน 12 เดือน ตามประกาศ (ก.ท.จ.พัทลุง) เรื่องหลักเกณฑ์
A70: และเงื่อนไขเกี่ยวกับพนักงานจ้าง (ฉบับที่ 3) จำนวน 24 อัตรา ตั้งจ่ายจากเงินรายได้
C71: เงินเพิ่มต่างๆของพนักงานจ้าง | E71: รวม | F71: =[2]ค่าครองชีพ!$G$28 -> 320700 | G71: บาท
C72: เพื่อจ่ายเป็นเงินเพิ่มการครองชีพชั่วคราว ให้แก่พนักงานจ้าง
A73: ตามอัตราที่กำหนด โดยคำนวณตั้งจ่ายไว้ไม่เกิน 12 เดือน ตามประกาศ ก.จ.,ก.ท.,
A74: ก.อบต.เรื่อง กำหนดมาตรฐานทั่วไป เกี่ยวกับหลักเกณฑ์การให้พนักงานส่วนท้องถิ่น
A75: ลูกจ้าง และพนักงานจ้างขององค์กรปกครองส่วนท้องถิ่น ได้รับเงินเพิ่มการครองชีพ
A76: ชั่วคราว (ฉบับที่ 2) ลงวันที่ 18 มิถุนายน 2558 จำนวน 22 อัตรา
A77: ตั้งจ่ายจากเงินรายได้
C78: เงินอื่นๆ | E78: จำนวน | F78: 84000 | G78: บาท
C79: เพื่อจ่ายเป็นเงินค่าตอบแทนรายเดือนปลัดเทศบาล ระดับกลาง
A80: จำนวน 7,000.- บาท ต่อเดือน 1 อัตรา ตามประกาศคณะกรรมการกลางพนักงาน
A81: เทศบาล เรื่อง มาตรฐานทั่วไปเกี่ยวกับอัตราเงินเดือน วิธีการจ่ายเงินเดือนและ
A82: ประโยชน์ตอบแทนอื่น (ฉบับที่ 7) ลงวันที่ 7 มีนาคม 2559 ตั้งจ่ายจากเงินรายได้
B83: งบดำเนินงาน | E83: รวม | F83: =F84+F110+F157+F202 -> 5124800 | G83: บาท
C84: ค่าตอบแทน | E84: รวม | F84: =F85+F95+F100+F104+F107 -> 414800 | G84: บาท
C85: ค่าตอบแทนผู้ปฏิบัติราชการอันเป็นประโยชน์แก่ อปท. | E85: รวม | F85: =F86+F90 -> 110000 | G85: บาท
C86: เงินประโยชน์ตอบแทนอื่นเป็นกรณีพิเศษแก่ข้าราชการ และ | E86: จำนวน | F86: 10000 | G86: บาท
A87: พนักงานส่วนท้องถิ่น
C88: เพื่อจ่ายเป็นเงินประโยชน์ตอบแทนอื่นเป็นกรณีพิเศษให้แก่
A89: พนักงานเทศบาล ลูกจ้างประจำ และพนักงานจ้าง ตั้งจ่ายจากเงินรายได้
C90: ค่าตอบแทนผู้ปฏิบัติราชการอันเป็นประโยชน์แก่เทศบาล | E90: จำนวน | F90: 100000 | G90: บาท
C91: เพื่อจ่ายเป็นค่าตอบแทน ให้กับผู้ปฏิบัติราชการอันเป็นประโยชน์
A92: แก่เทศบาลตามระเบียบ และหนังสือสั่งการ เช่น คณะกรรมการเปิดซองสอบราคา
A93: /ประกวดราคา คณะกรรมการตรวจงานจ้าง ตามโครงการต่างๆ ค่าตอบแทน กรณี
A94: ขอใช้บริการของส่วนราชการอื่น เช่น บริการรถสุขา ค่าเบี้ยเลี้ยง ฯลฯ
C95: ค่าเบี้ยประชุม | E95: จำนวน | F95: 10000 | G95: บาท
C96: เพื่อจ่ายเป็นค่าเบี้ยประชุมกรรมการ ที่สภาเทศบาลแต่งตั้งขึ้น
A97: ตามระเบียบกระทรวงมหาดไทย ว่าด้วยเงินเดือน เงินค่าตอบแทน และประโยชน์
A98: ตอบแทนอย่างอื่น ของนายกเทศมนตรี รองนายกเทศมนตรี สมาชิกสภาที่ดำรง
A99: ตำแหน่งประธานสภาเทศบาลฯ พ.ศ. 2554 (ข้อ 8)
C100: ค่าตอบแทนการปฏิบัติงานนอกเวลาราชการ | E100: จำนวน | F100: 40000 | G100: บาท
C101: เพื่อจ่ายเป็นค่าตอบแทนการปฏิบัติงาน นอกเวลาราชการ ให้แก่
A102: พนักงานเทศบาล ลูกจ้างประจำ และพนักงานจ้าง ที่ได้รับคำสั่งให้ปฏิบัติงานนอก
A103: เวลาราชการเป็นครั้งคราว
...

Sheet การรักษาความสงบภายใน
A1: รายงานรายละเอียดประมาณการรายจ่ายงบประมาณรายจ่ายทั่วไป
A2: ประจำปีงบประมาณ พ.ศ.2560
A3: เทศบาลตำบลพนางตุง
A4: อำเภอควนขนุน จังหวัดพัทลุง
A5: แผนงานการรักษาความสงบภายใน
A6: งานป้องกันภัยฝ่ายพลเรือนและระงับอัคคีภัย | E6: รวม | F6: =F7+F27 -> 366000 | G6: บาท
B7: งบดำเนินงาน | E7: รวม | F7: =F8+F23 -> 230000 | G7: บาท
C8: ค่าใช้สอย | E8: รวม | F8: =F11+F18 -> 190000 | G8: บาท
C9: รายจ่ายเกี่ยวเนื่องกับการปฏิบัติราชการที่ไม่เข้าลักษณะ
A10: รายจ่ายหมวดอื่นๆ
C11: โครงการป้องกันและลดอุบัติเหตุทางถนน | E11: จำนวน | F11: 40000 | G11: บาท
C12: เพื่อจ่ายเป็นค่าดำเนินงานตามโครงการป้องกันและลดอุบัติเหตุ
A13: ทางถนนในช่วงเทศกาลสำคัญ เช่น เทศกาลปีใหม่ เทศกาลสงกรานต์ เป็นต้น และ
A14: มาตรการในการรักษาความปลอดภัยนักท่องเที่ยว โดยถือปฏิบัติ ตามหนังสือ
A15: กรมส่งเสริมการปกครองท้องถิ่น ด่วนที่สุด ที่ มท 0804.5/ว 1634 ลงวันที่ 22
A16: กันยายน 2557 จ่ายเป็นค่าเบี้ยเลี้ยง อปพร. ค่าอาหารว่างและเครื่องดื่ม
A17: ค่าอาหาร ค่าป้ายโครงการ และค่าใช้จ่ายอื่นที่จำเป็นในการจัดโครงการ
C18: โครงการฝึกทบทวน อปพร. | E18: จำนวน | F18: 150000 | G18: บาท
C19: เพื่อจ่ายเป็นค่าดำเนินงานตามโครงการฝึกทบทวน สมาชิก อปพร.
A20: จ่ายเป็นค่าลงทะเบียน ค่าชุดแต่งกาย ค่าสมนาคุณวิทยากร ค่าอาหาร ค่าอาหาร
A21: ว่างและเครื่องดื่ม ค่าวัสดุ เครื่องเขียน และอุปกรณ์ และค่าใช้จ่ายอื่นที่จำเป็นในการ
A22: จัดฝึกอบรม หรือส่งบุคคลเข้ารับการอบรม
C23: ค่าวัสดุ | E23: รวม | F23: =F24 -> 40000 | G23: บาท
C24: วัสดุเครื่องแต่งกาย | E24: จำนวน | F24: 40000 | G24: บาท
C25: เพื่อจ่ายเป็นค่าวัสดุเครื่องแต่งกาย เช่น เครื่องแบบ เสื้อ กางเกง
A26: ผ้าหมวก รองเท้า เข็มขัด หมวก ผ้าผูกคอ และอื่นๆที่เข้าประเภทรายจ่ายนี้
B27: งบลงทุน | E27: รวม | F27: =F29+F44+F49 -> 136000 | G27: บาท
C28: ค่าครุภัณฑ์ | E28: รวม | F28: =F29+F44+F49 -> 136000 | G28: บาท
C29: ครุภัณฑ์ยานพาหนะและขนส่ง | E29: รวม | F29: =F30+F37 -> 90000 | G29: บาท
C30: ค่าซื้อเรือไม้ | E30: จำนวน | F30: 45000 | G30: บาท
C31: เพื่อจ่ายเป็นค่าจัดซื้อเรือไม้ ขนาดปากเรือกว้างโดยวัดกลางลำเรือ
A32: ไม่ต่ำกว่า 1.15 เมตร ยาว 12 เมตร จำนวน 1 ลำ พร้อมที่นั่ง 8 ที่นั่ง เป็นเรือที่ทำ
A33: จากไม้เนื้อแข็งปานกลาง เช่น ไม้ตะเคียนทอง ไม้ประดู่ เป็นต้น จัดซื้อตามราคา
A34: ท้องตลาด ตามหนังสือ กระทรวงมหาดไทย ที่ มท 0808.2/ว 1989 ลงวันที่
A35: 22 มิถุนายน 2552 เรื่องการตั้งงบประมาณเพื่อการจัดซื้อ ครุภัณฑ์ และรถยนต์
A36: ขององค์กรปกครองส่วนท้องถิ่น
C37: ค่าซื้อเรือพลาสติก | E37: จำนวน | F37: 45000 | G37: บาท
C38: เพื่อจ่ายเป็นค่าจัดซื้อเรือพลาสติกทรงหัวแหลมท้ายตัด กว้าง 84
A39: เซนติเมตร ยาว 258 เซนติเมตร สูง 53 เซนติเมตร น้ำหนัก 25.7 กิโลเมตร เป็น
A40: ขนาดที่ไม่ต่ำกว่า สามารถบรรทุกได้ 2-3 คน จำนวน 10 ลำ จัดซื้อตามราคาท้อง
A41: ตลาด ตามหนังสือ กระทรวงมหาดไทย ที่ มท 0808.2/ว 1989 ลงวันที่ 22
A42: มิถุนายน 2552 เรื่องการตั้งงบประมาณเพื่อการจัดซื้อ ครุภัณฑ์ และรถยนต์ ของ
A43: องค์กรปกครองส่วนท้องถิ่น
C44: ครุภัณฑ์ไฟฟ้าและวิทยุ | E44: จำนวน | F44: 37500 | G44: บาท
C45: เพื่อจ่ายเป็นค่าจัดซื้อเครื่องรับส่งวิทยุ ระบบ VHF/FM ชนิดมือถือ
A46: ขนาดกำลังส่ง 5 วัตต์ ประกอบด้วย ตัวเครื่อง แท่นชาร์ท แบตเตอรี่ 1 ก้อน เสายาง
A47: เหล็กพับ จำนวน 5 เครื่อง ตั้งตามราคามาตรฐานครุภัณฑ์ และคุณลักษณะ
A48: เฉพาะครุภัณฑ์ ปี 2559
C49: ครุภัณฑ์อื่น | E49: จำนวน | F49: 8500 | G49: บาท
C50: เพื่อจ่ายเป็นค่าจัดซื้อเลื่อยโซ่ยนต์เบนซิน 2 จังหวะ มีปริมาตร
A51: กระบอกสูบไม่ต่ำกว่า 31.8 ซีซี ถังบรรจุเชื้อเพลิงไม่ต่ำกว่า 250 ซีซี พร้อมแผ่น
A52: บังคับโซ่ จำนวน 1 เครื่อง จัดซื้อตามราคาท้องตลาด ตามหนังสือ กระทรวง
A53: มหาดไทย ที่ มท 0808.2/ว 1989 ลงวันที่ 22 มิถุนายน 2552 เรื่องการตั้งงบ
A54: ประมาณเพื่อการจัดซื้อ ครุภัณฑ์ และรถยนต์ ขององค์กรปกครองส่วนท้องถิ่น
A55: ครุภัณฑ์ที่จัดซื้อพร้อมใบอนุญาตตามที่กฎหมายกำหนด

Sheet การศึกษา
A1: รายงานรายละเอียดประมาณการรายจ่ายงบประมาณรายจ่ายทั่วไป
A2: ประจำปีงบประมาณ พ.ศ.2560
A3: เทศบาลตำบลพนางตุง
A4: อำเภอควนขนุน จังหวัดพัทลุง
A5: แผนงานการศึกษา
A6: งานบริหารทั่วไปเกี่ยวกับการศึกษา | E6: รวม | F6: =F7+F36 -> 2953760 | G6: บาท
B7: งบบุคลากร | E7: รวม | F7: =F8 -> 1838760 | G7: บาท
C8: เงินเดือน (ฝ่ายประจำ) | E8: รวม | F8: =F9+F14+F17+F25+F29 -> 1838760 | G8: บาท
C9: เงินเดือนพนักงาน | E9: จำนวน | F9: =[2]เงินเดือน!$I$98 -> 1228440 | G9: บาท
C10: เพื่อจ่ายเป็นเงินเดือนพนักงานเทศบาล พร้อมทั้งเงินปรับปรุงเงิน
A11: เดือนประจำปี ตามตำแหน่ง และอัตรา ตามนัยประกาศ ก.ท. เรื่องมาตรฐานกลาง
A12: การบริหารงานบุคคลส่วนท้องถิ่น (ฉบับที่ 5) พ.ศ.2558 จำนวน 4 อัตรา
A13: ตั้งจ่ายจากเงินรายได้
C14: เงินเพิ่มต่างๆของพนักงาน | E14: จำนวน | F14: 6360 | G14: บาท
C15: เพื่อจ่ายเป็นเงินเพิ่มพิเศษสำหรับการสู้รบ (พ.ส.ร.) ให้กับพนักงาน
A16: เทศบาลที่มีสิทธิได้รับ จำนวน 1 อัตรา ตั้งจ่ายจากเงินรายได้
C17: เงินประจำตำแหน่ง | E17: จำนวน | F17: 78000 | G17: บาท
C18: เพื่อจ่ายเป็นเงินประจำตำแหน่งให้แก่ ผู้อำนวยการกองการศึกษา
A19: ระดับต้น จำนวน 3,500.- บาท ต่อเดือน 1 อัตรา หัวหน้าฝ่ายบริหารการศึกษา
A20: ระดับต้น จำนวน 1,500.- บาท ต่อเดือน 1 อัตรา หัวหน้าฝ่ายส่งเสริมการศึกษา
A21: ศาสนา และวัฒนธรรม ระดับต้น จำนวน 1,500.- บาท ต่อเดือน 1 อัตรา ตาม
A22: ประกาศคณะกรรมการกลางพนักงานเทศบาล เรื่อง มาตรฐานทั่วไปเกี่ยวกับอัตรา
A23: เงินเดือน วิธีการจ่ายเงินเดือนและประโยชน์ตอบแทนอื่น (ฉบับที่ 7) ลงวันที่ 7
A24: มีนาคม 2559 ตั้งจ่ายจากเงินรายได้
C25: ค่าตอบแทนพนักงานจ้าง | E25: จำนวน | F25: =[2]เงินเดือน!$I$279 -> 465960 | G25: บาท
C26: เพื่อจ่ายเป็นเงินค่าตอบแทน ให้แก่พนักงานจ้างตามอัตราที่กำหนด
A27: โดยคำนวณตั้งจ่ายไว้ไม่เกิน 12 เดือน ตามประกาศ (ก.ท.จ.พัทลุง) เรื่องหลักเกณฑ์
A28: และเงื่อนไขเกี่ยวกับพนักงานจ้าง (ฉบับที่ 3) จำนวน 4 อัตรา ตั้งจ่ายจากเงินรายได้
C29: เงินเพิ่มต่างๆของพนักงานจ้าง | E29: จำนวน | F29: =[2]ค่าครองชีพ!$G$115 -> 60000 | G29: บาท
C30: เพื่อจ่ายเป็นเงินเพิ่มการครองชีพชั่วคราว ให้แก่พนักงานจ้าง
A31: ตามอัตราที่กำหนด โดยคำณวนตั้งจ่ายไว้ไม่เกิน 12 เดือน ตามประกาศ ก.จ.,ก.ท.
A32: ก.อบต. เรื่องกำหนดมาตรฐานทั่วไปเกี่ยวกับหลักเกณฑ์การให้พนักงานส่วนท้องถิ่น
A33: ลูกจ้าง และพนักงานจ้างขององค์กรปกครองส่วนท้องถิ่น ได้รับเงินเพิ่มการครองชีพ
A34: ชั่วคราว (ฉบับที่ 2) ลงวันที่ 18 มิถุนายน 2558 จำนวน 4 อัตรา ตั้งจ่ายจาก
A35: เงินรายได้
B36: งบดำเนินงาน | E36: รวม | F36: =F37+F48+F70+F100 -> 1115000 | G36: บาท
C37: ค่าตอบแทน | E37: รวม | F37: =F38+F41+F45 -> 62000 | G37: บาท
C38: ค่าตอบแทนผู้ปฏิบัติราชการอันเป็นประโยชน์แก่ อปท. | E38: จำนวน | F38: 10000 | G38: บาท
C39: เพื่อจ่ายเป็นเงินประโยชน์ตอบแทนอื่น เป็นกรณีพิเศษ ให้แก่
A40: พนักงานเทศบาล และพนักงานจ้าง ตั้งจ่ายจากเงินรายได้
C41: ค่าตอบแทนการปฏิบัติงานนอกเวลาราชการ | E41: จำนวน | F41: 10000 | G41: บาท
C42: เพื่อจ่ายเป็นค่าตอบแทนการปฏิบัติงาน นอกเวลาราชการ ให้แก่
A43: พนักงานเทศบาล และพนักงานจ้าง ที่ได้รับคำสั่งให้ปฏิบัติงานนอกเวลาราชการ
A44: เป็นครั้งคราว
C45: ค่าเช่าบ้าน | E45: จำนวน | F45: 42000 | G45: บาท
C46: เพื่อจ่ายเป็นค่าเช่าบ้านให้กับพนักงานเทศบาล ที่มีสิทธิเบิกได้ตาม
A47: ระเบียบฯ ตั้งจ่ายจากเงินรายได้
C48: ค่าใช้สอย | E48: รวม | F48: =F49+F55+F62+F67 -> 640000 | G48: บาท
C49: รายจ่ายเพื่อให้ได้มาซึ่งบริการ | E49: จำนวน | F49: 350000 | G49: บาท
C50: เพื่อจ่ายเป็นค่าจ้างเหมาบริการ ทำอย่างใด อย่างหนึ่ง เช่น ค่า
A51: โฆษณาเผยแพร่ ค่าธรรมเนียมต่างๆ ค่าเย็บเล่ม เข้าปกหนังสือ ค่าจ้างเหมาจัดทำ
A52: เอกสาร หนังสือ คู่มือต่างๆค่าจ้างเหมากำจัดปลวก และแมลง รวมทั้งค่าจ้างเหมา
A53: บุคคลภายนอก เป็นค่าใช้จ่ายที่เทศบาลไม่สามารถดำเนินการเองได้ และเข้า
A54: ประเภทรายจ่ายนี้
C55: รายจ่ายเกี่ยวกับการรับรองและพิธีการ | E55: จำนวน | F55: 10000 | G55: บาท
C56: เพื่อจ่ายเป็นค่ารับรองในการต้อนรับบุคคล หรือคณะบุคคลที่
A57: มานิเทศตรวจงานหรือเยี่ยมชม หรือทัศนศึกษาดูงาน ตั้งจ่ายไว้ไม่เกินร้อยละ 1
A58: ของรายได้จริงในปีที่ล่วงมา โดยไม่รวมเงินอุดหนุน เฉพาะกิจ เงินกู้ เงินจ่ายขาด
A59: สะสม และเงินที่มีผู้อุทิศให้
C60: รายจ่ายเกี่ยวเนื่องกับการปฏิบัติราชการที่ไม่เข้าลักษณะ
A61: รายจ่ายหมวดอื่นๆ
C62: ค่าใช้จ่ายในการเดินทางไปราชการ | E62: จำนวน | F62: 130000 | G62: บาท
C63: เพื่อจ่ายเป็นค่าอบรม ค่าเบี้ยเลี้ยง ค่ายานพาหนะ ค่าเช่าที่พัก
A64: ระหว่างเดินทางในประเทศ และต่างประเทศ ให้แก่ พนักงานเทศบาล และพนักงาน
A65: จ้าง ที่มีความจำเป็นต้องเดินทางไปราชการ หรือมีการโอนย้าย หรือเข้ารับการ
A66: อบรมสัมมนา หรือสอบคัดเลือก และมีสิทธิตามระเบียบที่ทางราชการกำหนด
C67: ค่าบำรุงรักษาและซ่อมแซม | E67: จำนวน | F67: 150000 | G67: บาท
C68: เพื่อเป็นค่าใช้จ่ายในการบำรุง รักษา หรือซ่อมแซม ทรัพย์สิน
A69: เพื่อให้สามารถใช้งานได้ตามปกติ
C70: ค่าวัสดุ | E70: รวม | F70: =F71+F75+F78+F82+F85+F88+F92+F95 -> 368000 | G70: บาท
C71: วัสดุสำนักงาน | E71: จำนวน | F71: 50000 | G71: บาท
C72: เพื่อจ่ายเป็นค่าจัดซื้อวัสดุ อุปกรณ์ และสิ่งของเครื่องใช้ต่างๆ เช่น
A73: กระดาษแฟ้ม ปากกา ดินสอ เก้าอี้ทำงาน โทรศัพท์ ตู้อเนกประสงค์ และอื่นๆ ที่เข้า
A74: ประเภทรายจ่ายนี้
C75: วัสดุไฟฟ้าและวิทยุ | E75: จำนวน | F75: 18000 | G75: บาท
C76: เพื่อจ่ายเป็นค่าจัดซื้อวัสดุไฟฟ้า และวิทยุ เช่น ฟิวส์ สายไฟปลั๊กไฟ
A77: ตลับแยกสายไฟ เบรกเกอร์ หลอดไฟฟ้า และอื่นๆ ที่เข้าประเภทรายจ่ายนี้
C78: วัสดุงานบ้านงานครัว | E78: จำนวน | F78: 50000 | G78: บาท
C79: เพื่อจ่ายเป็นค่าซื้อวัสดุงานบ้านงานครัว เช่น ไม้กวาด ไม้ถูพื้น
A80: แปรง ขัดพื้น ถังน้ำ แก้วน้ำ จานรอง ถ้วยชาม ถ้วยกาแฟ ถังขยะแบบมีล้อ ถังขยะ
A81: เคมี และอื่นๆที่เข้าประเภทรายจ่ายนี้
C82: วัสดุก่อสร้าง | E82: จำนวน | F82: 50000 | G82: บาท
C83: เพื่อจ่ายเป็นค่าจัดซื้อวัสดุก่อสร้าง เช่น ไม้ต่างๆ ปูนขาว ปูนซิเมนต์
A84: ทราย เหล็กเส้น ตะปู จอบ ท่อน้ำ และอื่นๆที่เข้าประเภทรายจ่ายนี้
C85: วัสดุการเกษตร | E85: จำนวน | F85: 25000 | G85: บาท
C86: เพื่อจ่ายเป็นค่าวัสดุการเกษตร เช่น ปุ๋ย พันธุ์พืช วัสดุเพาะชำ
A87: อุปกรณ์ในการขยายพันธุ์ และอื่นๆที่เข้าประเภทรายจ่ายนี้
C88: วัสดุโฆษณาและเผยแพร่ | E88: จำนวน | F88: 5000 | G88: บาท
C89: เพื่อจ่ายเป็นค่าวัสดุโฆษณา และเผยแพร่ประชาสัมพันธ์ กิจกรรม
A90: นโยบายของภาครัฐ เช่น ค่ากระดาษเขียน โปสเตอร์ พู่กัน และสี ภาพถ่าย
A91: ดาวเทียม และอื่นๆที่เข้าประเภทรายจ่ายนี้
C92: วัสดุกีฬา | E92: จำนวน | F92: 80000 | G92: บาท | J92: 14724000
C93: เพื่อจ่ายเป็นค่าวัสดุกีฬา เช่น ลูกฟุตบอล ตะกร้อ นวม นาฬิกา จับ | J93: 2563200
A94: เวลา นกหวีด เสาตาข่ายกีฬา และอื่นๆที่เข้าประเภทรายจ่ายนี้ | J94: 180000
C95: วัสดุคอมพิวเตอร์ | E95: จำนวน | F95: 90000 | G95: บาท | J95: 1388659
C96: เพื่อจ่ายเป็นค่าวัสดุคอมพิวเตอร์ เช่น หมึกคอมพิวเตอร์ กระดาษ | J96: 2244000
A97: ต่อเนื่อง เมาส์ แป้นพิมพ์ แผ่นซีดี/ดีวีดีหรือจานบันทึกข้อมูล และอื่นๆที่เข้า | J97: 89096
A98: ประเภทรายจ่ายนี้ | J98: 229200
C100: ค่าสาธารณูปโภค | E100: รวม | F100: =F101+F104 -> 45000 | G100: บาท
C101: ค่าไฟฟ้า | E101: จำนวน | F101: 25000 | G101: บาท
...

Sheet สาธารณสุข
A1: รายงานรายละเอียดประมาณการรายจ่ายงบประมาณรายจ่ายทั่วไป
A2: ประจำปีงบประมาณ พ.ศ.2560
A3: เทศบาลตำบลพนางตุง
A4: อำเภอควนขนุน จังหวัดพัทลุง
A5: แผนงานการสาธารณสุข
A6: งานบริหารทั่วไปเกี่ยวกับสาธารณสุข | E6: รวม | F6: =F7 -> 50000 | G6: บาท | K6: =F6+F14+F26 -> 929210
B7: งบดำเนินงาน | E7: รวม | F7: =F8 -> 50000 | G7: บาท
C8: ค่าวัสดุ | E8: รวม | F8: =F9 -> 50000 | G8: บาท
C9: วัสดุวิทยาศาสตร์หรือการแพทย์ | E9: จำนวน | F9: 50000 | G9: บาท
C10: เพื่อจ่ายเป็นค่าวัสดุวิทยาศาสตร์หรือการแพทย์ เช่น จัดซื้อน้ำยา
A11: เคมี เคมีภัณฑ์ ถุงมือ ผ้าพันแผล เพื่อใช้ในกิจการต่างๆ เช่น ตรวจสารเสพติด
A12: และอื่นๆที่เข้าประเภทรายจ่ายนี้
A14: งานโรงพยาบาล | E14: รวม | F14: =F15 -> 49210 | G14: บาท
B15: งบดำเนินงาน | E15: รวม | F15: =F16 -> 49210 | G15: บาท
C16: ค่าใช้สอย | E16: รวม | F16: =F19 -> 49210 | G16: บาท
C17: รายจ่ายเกี่ยวเนื่องกับการปฏิบัติราชการที่ไม่เข้าลักษณะ
A18: รายจ่ายหมวดอื่นๆ
C19: โครงการป้องกันควบคุมโรคพิษสุนัขบ้า | E19: จำนวน | F19: 49210 | G19: บาท
C20: เพื่อจ่ายเป็นค่าดำเนินงานตามโครงการป้องกันควบคุมโรคพิษสุนัข
A21: บ้า เช่น ค่าจัดซื้อวัคซีน ค่าตอบแทน เจ้าหน้าที่ผู้ปฏิบัติ ค่าป้ายโครงการ ค่าวัสดุ
A22: เครื่องเขียน และอุปกรณ์ ค่าใช้จ่ายเกี่ยวกับการใช้และการตกแต่งสถานที่ ค่าอาหาร
A23: ค่าอาหารว่าง และเครื่องดื่ม ค่าจ้างเหมาเครื่องขยายเสียง ค่าใช้จ่ายอื่นที่จำเป็นใน
A24: การจัดโครงการ
A26: งานบริการสาธารณสุขและงานสาธารณสุขอื่น | E26: รวม | F26: =F27 -> 830000 | G26: บาท
B27: งบดำเนินงาน | E27: รวม | F27: =F28 -> 830000 | G27: บาท
C28: ค่าใช้สอย | E28: รวม | F28: =F31+F37 -> 830000 | G28: บาท
C29: รายจ่ายเกี่ยวเนื่องกับการปฏิบัติราชการที่ไม่เข้าลักษณะ
A30: รายจ่ายหมวดอื่นๆ
C31: โครงการบริการการแพทย์ฉุกเฉิน | E31: จำนวน | F31: 750000 | G31: บาท
C32: เพื่อจ่ายเป็นค่าดำเนินงาน ตามโครงการบริการการแพทย์ฉุกเฉิน
A33: เช่น ค่าวัสดุ อุปกรณ์ ค่าตอบแทนการปฏิบัติงาน ในการบริการการแพทย์ฉุกเฉิน
A34: ของเจ้าหน้าที่หน่วยกู้ชีพ ค่าลงทะเบียนฝึกอบรมเพิ่มประสิทธิภาพการปฏิบัติหน้าที่
A35: ค่าใช้จ่ายอื่นที่จำเป็นในการจัดโครงการ ถือปฏิบัติตามหนังสือกระทรวงมหาดไทย
A36: ที่ มท 0891.3/ว 2826 ลงวันที่ 17 กันยายน 2553
C37: โครงการอบรมเชิงปฏิบัติการผู้ประกอบการร้านอาหารและ | E37: จำนวน | F37: 80000 | G37: บาท
A38: แผงลอย
C39: เพื่อจ่ายเป็นค่าดำเนินงาน ตามโครงการอบรมเชิงปฏิบัติการผู้
A40: ประกอบการร้านอาหารและแผงลอย เช่น ค่าอาหารว่าง ค่าอาหารและเครื่องดื่ม
A41: ค่าสมนาคุณวิทยากร ค่าวัสดุ เครื่องเขียน และอุปกรณ์ ค่ายานพาหนะ ค่าป้าย
A42: โครงการ ค่าใช้จ่ายเกี่ยวกับการใช้และตกแต่งสถานที่ฝึกอบรม ค่าใช้จ่ายอื่นที่จำเป็น
A43: ในการจัดโครงการ

Sheet สังคมสงเคราะห์
A1: รายงานรายละเอียดประมาณการรายจ่ายงบประมาณรายจ่ายทั่วไป
A2: ประจำปีงบประมาณ พ.ศ.2560
A3: เทศบาลตำบลพนางตุง
A4: อำเภอควนขนุน จังหวัดพัทลุง
A5: แผนงานสังคมสงเคราะห์
A6: งานสวัสดิการและสังคมสงเคราะห์ | E6: รวม | F6: =F7 -> 0 | G6: บาท | K6: =F6 -> 0
B7: งบเงินอุดหนุน | E7: รวม | F7: =F8 -> 0 | G7: บาท
C8: เงินอุดหนุน | E8: รวม | F8: =F10 -> 0 | G8: บาท
C9: เงินอุดหนุนกิจการที่เป็นสาธารณประโยชน์
C10: อุดหนุนเหล่ากาชาดจังหวัดพัทลุง | E10: จำนวน | F10: 0 | G10: บาท
C11: เพื่อจ่ายอุดหนุนเป็นค่าดำเนินภารกิจของเหล่ากาชาดจังหวัดพัทลุง
A12: ในการช่วยเหลือประชาชนที่ได้รับความเดือดร้อน ทั้งด้านการบรรเทาสาธารณภัย
A13: การสังคมสงเคราะห์ การพัฒนาคุณภาพชีวิต เด็ก สตรี คนชรา และผู้ด้อยโอกาส

Sheet เคหะและชุมชน
A1: รายงานรายละเอียดประมาณการรายจ่ายงบประมาณรายจ่ายทั่วไป
A2: ประจำปีงบประมาณ พ.ศ.2560
A3: เทศบาลตำบลพนางตุง
A4: อำเภอควนขนุน จังหวัดพัทลุง
A5: แผนงานเคหะและชุมชน
A6: งานบริหารทั่วไปเกี่ยวกับเคหะและชุมชน | E6: รวม | F6: =F7+F36+F104 -> 4012040 | G6: บาท
B7: งบบุคลากร | E7: รวม | F7: =F8 -> 1943640 | G7: บาท
C8: เงินเดือน (ฝ่ายประจำ) | E8: รวม | F8: =F9+F14+F17+F25+F29 -> 1943640 | G8: บาท
C9: เงินเดือนพนักงาน | E9: จำนวน | F9: =[2]เงินเดือน!$I$70 -> 1427160 | G9: บาท
C10: เพื่อจ่ายเป็นเงินเดือนพนักงานเทศบาล พร้อมทั้งเงินปรับปรุงเงิน
A11: เดือนประจำปี ตามตำแหน่ง และอัตรา ตามนัยประกาศ ก.ท. เรื่องมาตรฐานกลาง
A12: การบริหารงานบุคคลส่วนท้องถิ่น (ฉบับที่ 5) พ.ศ.2558 จำนวน 5 อัตรา
A13: ตั้งจ่ายจากเงินรายได้ (กองช่าง)
C14: เงินเพิ่มต่างๆของพนักงาน | E14: รวม | F14: 2880 | G14: บาท
C15: เพื่อจ่ายเป็นเงินเพิ่มพิเศษสำหรับการสู้รบ (พ.ส.ร.) ให้กับพนักงาน
A16: เทศบาลที่มีสิทธิได้รับ จำนวน 1 อัตรา ตั้งจ่ายจากเงินรายได้
C17: เงินประจำตำแหน่ง | E17: จำนวน | F17: 78000 | G17: บาท
C18: เพื่อจ่ายเป็นเงินประจำตำแหน่งให้แก่ ผู้อำนวยการกองช่าง
A19: ระดับต้น จำนวน 3,500.- บาท ต่อเดือน 1 อัตรา หัวหน้าฝ่ายการโยธา
A20: ระดับต้น จำนวน 1,500.- บาท ต่อเดือน 1 อัตรา หัวหน้าฝ่ายแบบแผนและ
A21: ก่อสร้าง ระดับต้น จำนวน 1,500.- บาท ต่อเดือน 1 อัตรา ตามประกาศ
A22: คณะกรรมการกลางพนักงานเทศบาล เรื่อง มาตรฐานทั่วไปเกี่ยวกับอัตรา
A23: เงินเดือน วิธีการจ่ายเงินเดือนและประโยชน์ตอบแทนอื่น (ฉบับที่ 7) ลงวันที่ 7
A24: มีนาคม 2559 ตั้งจ่ายจากเงินรายได้
C25: ค่าตอบแทนพนักงานจ้าง | E25: จำนวน | F25: =[2]เงินเดือน!$I$249 -> 375600 | G25: บาท
C26: เพื่อจ่ายเป็นเงินค่าตอบแทน ให้แก่พนักงานจ้างตามอัตราที่กำหนด
A27: โดยคำนวณตั้งจ่ายไว้ไม่เกิน 12 เดือน ตามประกาศ (ก.ท.จ.พัทลุง) เรื่องหลักเกณฑ์
A28: และเงื่อนไขเกี่ยวกับพนักงานจ้าง (ฉบับที่ 3) จำนวน 3 อัตรา ตั้งจ่ายจากเงินรายได้
C29: เงินเพิ่มต่างๆของพนักงานจ้าง | E29: รวม | F29: =[2]ค่าครองชีพ!$G$84 -> 60000 | G29: บาท
C30: เพื่อจ่ายเป็นเงินเพิ่มการครองชีพชั่วคราว ให้แก่พนักงานจ้าง
A31: ตามอัตราที่กำหนด โดยคำนวณตั้งจ่ายไว้ไม่เกิน 12 เดือน ตามประกาศ ก.จ.,ก.ท.
A32: ก.อบต. เรื่องกำหนดมาตรฐานทั่วไปเกี่ยวกับหลักเกณฑ์การให้พนักงานส่วนท้องถิ่น
A33: ลูกจ้าง และพนักงานจ้างขององค์กรปกครองส่วนท้องถิ่น ได้รับเงินเพิ่มการครองชีพ
A34: ชั่วคราว (ฉบับที่ 2) ลงวันที่ 18 มิถุนายน 2558 จำนวน 3 อัตรา
A35: ตั้งจ่ายจากเงินรายได้
B36: งบดำเนินงาน | E36: รวม | F36: =F37+F51+F70+F100 -> 1968400 | G36: บาท
C37: ค่าตอบแทน | E37: รวม | F37: =F38+F41+F45+F48 -> 92600 | G37: บาท
C38: ค่าตอบแทนผู้ปฏิบัติราชการอันเป็นประโยชน์แก่ อปท. | E38: จำนวน | F38: 10000 | G38: บาท
C39: เพื่อจ่ายเป็นเงินประโยชน์ตอบแทนอื่น เป็นกรณีพิเศษ ให้แก่
A40: พนักงานเทศบาล และพนักงานจ้าง ตั้งจ่ายจากเงินรายได้
C41: ค่าตอบแทนการปฏิบัติงานนอกเวลาราชการ | E41: จำนวน | F41: 10000 | G41: บาท
C42: เพื่อจ่ายเป็นค่าตอบแทนการปฏิบัติงาน นอกเวลาราชการ ให้แก่
A43: พนักงานเทศบาล และพนักงานจ้าง ที่ได้รับคำสั่งให้ปฏิบัติงานนอกเวลาราชการ
A44: เป็นครั้งคราว
C45: ค่าเช่าบ้าน | E45: จำนวน | F45: 57600 | G45: บาท
C46: เพื่อจ่ายเป็นค่าเช่าบ้านให้กับพนักงานเทศบาล ที่มีสิทธิเบิกได้ตาม
A47: ระเบียบฯ ตั้งจ่ายจากเงินรายได้
C48: เงินช่วยเหลือการศึกษาบุตร | E48: จำนวน | F48: 15000 | G48: บาท
C49: เพื่อจ่ายเป็นเงินช่วยเหลือการศึกษาบุตร ให้แก่ พนักงานเทศบาล
A50: ผู้มีสิทธิเบิกได้ตามระเบียบฯ ตั้งจ่ายจากเงินรายได้
C51: ค่าใช้สอย | E51: รวม | F51: =F52+F60+F67 -> 1100000 | G51: บาท
C52: รายจ่ายเพื่อให้ได้มาซึ่งบริการ | E52: จำนวน | F52: 300000 | G52: บาท
C53: เพื่อจ่ายเป็นค่าจ้างเหมาบริการ ทำอย่างใด อย่างหนึ่ง เช่น ค่า
A54: ถ่ายแบบพิมพ์เขียว ค่าจ้างเหมาเครื่องจักรกล ค่าธรรมเนียมต่างๆ ค่าจ้างเหมา
A55: จัดทำเอกสาร หนังสือ คู่มือต่างๆค่าจ้างเหมาเป่าล้างบ่อบาดาล รวมทั้งค่าจ้างเหมา
A56: บุคคลภายนอก เป็นค่าใช้จ่ายที่เทศบาลไม่สามารถดำเนินการเองได้ และเข้า
A57: ประเภทรายจ่ายนี้
C58: รายจ่ายเกี่ยวเนื่องกับการปฏิบัติราชการที่ไม่เข้าลักษณะ
A59: รายจ่ายหมวดอื่นๆ
C60: ค่าใช้จ่ายในการเดินทางไปราชการ | E60: จำนวน | F60: 150000 | G60: บาท
C61: เพื่อจ่ายเป็นค่าอบรม ค่าเบี้ยเลี้ยง ค่ายานพาหนะ ค่าเช่าที่พัก
A62: ระหว่างเดินทางในประเทศ และต่างประเทศ ให้แก่ พนักงานเทศบาล ลูกจ้าง และ
A63: พนักงานจ้าง ที่มีความจำเป็นต้องเดินทางไปราชการ หรือมีการโอนย้าย หรือ
A64: เข้ารับการอบรมสัมมนา หรือสอบคัดเลือก และมีสิทธิตามระเบียบที่ทางราชการ
A65: กำหนด
C67: ค่าบำรุงรักษาและซ่อมแซม | E67: จำนวน | F67: 650000 | G67: บาท
C68: เพื่อเป็นค่าใช้จ่ายในการบำรุง รักษา หรือซ่อมแซม ทรัพย์สิน
A69: เพื่อให้สามารถใช้งานได้ตามปกติ
C70: ค่าวัสดุ | E70: รวม | F70: =F71+F75+F78+F82+F86+F91+F95 -> 575800 | G70: บาท
C71: วัสดุสำนักงาน | E71: จำนวน | F71: 40000 | G71: บาท
C72: เพื่อจ่ายเป็นค่าจัดซื้อวัสดุ อุปกรณ์ และสิ่งของเครื่องใช้ต่างๆ เช่น
A73: กระดาษแฟ้ม ปากกา ดินสอ เก้าอี้ทำงาน โทรศัพท์ ตู้อเนกประสงค์ และอื่นๆ ที่เข้า
A74: ประเภทรายจ่ายนี้
C75: วัสดุไฟฟ้าและวิทยุ | E75: จำนวน | F75: 200000 | G75: บาท
C76: เพื่อจ่ายเป็นค่าจัดซื้อวัสดุไฟฟ้า และวิทยุ เช่น ฟิวส์ สายไฟปลั๊กไฟ
A77: ตลับแยกสายไฟ เบรกเกอร์ หลอดไฟฟ้า และอื่นๆ ที่เข้าประเภทรายจ่ายนี้
C78: วัสดุก่อสร้าง | E78: จำนวน | F78: 200000 | G78: บาท
C79: เพื่อจ่ายเป็นค่าจัดซื้อวัสดุก่อสร้าง เช่น ไม้ต่างๆ ปูนขาว ปูนซิเมนต์
A80: ทราย เหล็กเส้น ตะปู จอบ ท่อน้ำอุปกรณ์ประปา และ อื่นๆที่เข้าประเภท
A81: รายจ่ายนี้
C82: วัสดุยานพาหนะและขนส่ง | E82: จำนวน | F82: 15000 | G82: บาท
C83: เพื่อจ่ายเป็นค่าวัสดุ อุปกรณ์อะไหล่ต่างๆ ของยานพาหนะ เช่น ยาง
A84: นอก ยางใน อะไหล่รถจักรยานยนต์ แบตเตอรี่ หัวเทียนและอื่นๆ ที่เข้า
A85: ประเภทรายจ่ายนี้
C86: วัสดุเชื้อเพลิงและหล่อลื่น | E86: จำนวน | F86: 40800 | G86: บาท | J86: รถยนต์ 1 คัน | K86: 37200
C87: เพื่อจ่ายเป็นค่าวัสดุน้ำมันเชื้อเพลิงและหล่อลื่น สำหรับรถยนต์ | J87: รถเครื่อง 1 คัน | K87: 3600
A88: รถจักรยานยนต์ และเครื่องมือเครื่องใช้ที่ต้องใช้น้ำมันเชื้อเพลิงประกอบด้วย น้ำมัน | K88: =SUM(K86:K87) -> 40800
A89: เบนซิน แก๊สโซฮอล 95 น้ำมันเบนซินแก๊สโซฮอล 91 น้ำมันเครื่อง และอื่นๆ ที่เข้า
A90: ประเภทรายจ่ายนี้
C91: วัสดุคอมพิวเตอร์ | E91: จำนวน | F91: 75000 | G91: บาท
C92: เพื่อจ่ายเป็นค่าวัสดุคอมพิวเตอร์ เช่น หมึกคอมพิวเตอร์ กระดาษ
A93: ต่อเนื่อง เมาส์ แป้นพิมพ์ แผ่นซีดี/ดีวีดีหรือจานบันทึกข้อมูล และอื่นๆที่เข้าประเภท
A94: รายจ่ายนี้
C95: วัสดุสำรวจ | E95: จำนวน | F95: 5000 | G95: บาท
C96: เพื่อจ่ายเป็นค่าจัดซื้อวัสดุสำรวจเช่น บันไดอลูมิเนียม เทปวัดระยะ
A97: ตลับเมตร และอื่นๆที่เข้าประเภทรายจ่ายนี้
C100: ค่าสาธารณูปโภค | E100: รวม | F100: =F101 -> 200000 | G100: บาท
C101: ค่าไฟฟ้า | E101: จำนวน | F101: 200000 | G101: บาท
C102: เพื่อจ่ายเป็นค่ากระแสไฟฟ้า สำหรับประปาหมู่บ้านที่อยู่ในความ
A103: ดูแลของเทศบาล
...

Sheet สร้างความเข้มแข็งของชุมชน
A1: รายงานรายละเอียดประมาณการรายจ่ายงบประมาณรายจ่ายทั่วไป
A2: ประจำปีงบประมาณ พ.ศ.2560
A3: เทศบาลตำบลพนางตุง
A4: อำเภอควนขนุน จังหวัดพัทลุง
A5: แผนงานสร้างความเข้มแข็งของชุมชน
A6: งานส่งเสริมและสนับสนุนความเข้มแข็งชุมชน | E6: รวม | F6: =F7 -> 70000 | G6: บาท | K6: =F6 -> 70000
B7: งบดำเนินงาน | E7: รวม | F7: =F8 -> 70000 | G7: บาท
C8: ค่าใช้สอย | E8: รวม | F8: =F11+F17 -> 70000 | G8: บาท
C9: รายจ่ายเกี่ยวเนื่องกับการปฏิบัติราชการที่ไม่เข้าลักษณะ
A10: รายจ่ายหมวดอื่นๆ
C11: โครงการฝึกอบรมกลุ่มอาชีพ | E11: จำนวน | F11: 50000 | G11: บาท
C12: เพื่อจ่ายเป็นค่าดำเนินงานตามโครงการ ฝึกอบรมกลุ่มอาชีพ แก้
A13: ปัญหาการว่างงาน และส่งเสริมการประกอบอาชีพของประชาชน เช่น ค่าสมนาคุณ
A14: วิทยากร ค่าอาหาร ค่าอาหารว่างและเครื่องดื่ม ค่าวัสดุ เครื่องเขียน และอุปกรณ์
A15: ค่าป้ายโครงการ เอกสารประชาสัมพันธ์ ค่าใช้จ่ายในพิธีเปิด และค่าใช้จ่ายอื่นที่
A16: จำเป็นในการฝึกอบรม
C17: โครงการครอบครัวสัมพันธ์ | E17: จำนวน | F17: 20000 | G17: บาท
C18: เพื่อจ่ายเป็นค่าดำเนินงานตามโครงการ ครอบครัวสัมพันธ์ เช่น
A19: ค่าสมนาคุณวิทยากร ค่าอาหาร ค่าอาหารว่างและเครื่องดื่ม ค่าวัสดุ เครื่องเขียน
A20: และอุปกรณ์ ค่าป้ายโครงการ เอกสารประชาสัมพันธ์ ค่ายานพาหนะ และค่าใช้จ่าย
A21: อื่นที่จำเป็นในการจัดโครงการ

Sheet การศาสนาวัฒนธรรมและนันทนาการ
A1: รายงานรายละเอียดประมาณการรายจ่ายงบประมาณรายจ่ายทั่วไป
A2: ประจำปีงบประมาณ พ.ศ.2560
A3: เทศบาลตำบลพนางตุง
A4: อำเภอควนขนุน จังหวัดพัทลุง
A5: แผนงานการศาสนาวัฒนธรรมและนันทนาการ
A6: งานกีฬาและนันทนาการ | E6: รวม | F6: =F7 -> 380000 | G6: บาท
B7: งบดำเนินงาน | E7: รวม | F7: =F8 -> 380000 | G7: บาท
C8: ค่าใช้สอย | E8: รวม | F8: =F11+F18 -> 380000 | G8: บาท
C9: รายจ่ายเกี่ยวเนื่องกับการปฏิบัติราชการที่ไม่เข้าลักษณะ
A10: รายจ่ายหมวดอื่นๆ
C11: โครงการส่งนักกีฬาเข้าร่วมการแข่งขันในนามของเทศบาล | E11: จำนวน | F11: 150000 | G11: บาท
C12: เพื่อจ่ายเป็นค่าใช้จ่ายในการจัดส่งนักกีฬา นักกรีฑา เข้าร่วม
A13: แข่งขันในนามของเทศบาล และในนามของเทศบาลจัดร่วมกับอำเภอ เช่น กีฬาศูนย์
A14: พัฒนาเด็กเล็ก กีฬาไทคัพ กีฬาท้องถิ่นสัมพันธ์ กีฬาเทศบาลสัมพันธ์ ฯลฯ เพื่อจ่าย
A15: เป็นค่าอุปกรณ์กีฬา ค่าอาหาร ค่าอาหารและเครื่องดื่ม วันแข่งขันกีฬา และวันฝึก
A16: ซ้อม ค่าเวชภัณฑ์ ค่ายานพาหนะในการรับ -ส่งนักกีฬา ค่าชุดกีฬา ค่าวัสดุ อุปกรณ์
A17: และค่าใช้จ่ายอื่นที่จำเป็นในการจัดโครงการ
C18: โครงการแข่งขันกีฬาต้านยาเสพติด | E18: จำนวน | F18: 230000 | G18: บาท
C19: เพื่อจ่ายเป็นค่าดำเนินงาน ตามโครงการแข่งขันกีฬาต้านยาเสพติด
A20: เช่น ค่าอุปกรณ์กีฬา ค่าถ้วยรางวัล ค่าเหรียญรางวัล ค่าวัสดุ อุปกรณ์ ค่าอาหาร
A21: ค่าอาหารและเครื่องดื่ม ค่าเวชภัณฑ์ ค่าตอบแทนกรรมการตัดสินกีฬา และ
A22: ค่าใช้จ่ายอื่นที่จำเป็นในการจัดโครงการ
A24: งานศาสนาวัฒนธรรมท้องถิ่น | E24: รวม | F24: =F25 -> 330000 | G24: บาท
B25: งบดำเนินงาน | E25: รวม | F25: =F26 -> 330000 | G25: บาท
C26: ค่าใช้สอย | E26: รวม | F26: =F29+F34+F40+F45 -> 330000 | G26: บาท
C27: รายจ่ายเกี่ยวเนื่องกับการปฏิบัติราชการที่ไม่เข้าลักษณะ
A28: รายจ่ายหมวดอื่นๆ
C29: โครงการจัดงานประเพณีชักพระ | E29: จำนวน | F29: 25000 | G29: บาท
C30: เพื่อจ่ายเป็นค่าดำเนินงาน ตามโครงการจัดงานประเพณีชักพระ
A31: เช่น ค่าจ้างเหมาตกแต่งสถานที่ ค่าป้ายโครงการ ค่าเช่าค่าจ้างเหมาไฟประดับ
A32: เครื่องเสียง ค่าอาหารว่างและเครื่องดื่ม และค่าใช้จ่ายอื่นที่จำเป็นในการจัดโครงการ
C34: โครงการจัดงานประเพณีวันลอยกระทง | E34: จำนวน | F34: 150000 | G34: บาท
C35: เพื่อจ่ายเป็นค่าดำเนินงาน ตามโครงการจัดงานประเพณีวันลอย
A36: กระทง เช่น เงินรางวัล การประกวดนางนพมาศ และประกวดกระทง ค่าจ้างเหมา
A37: ไฟประดับ ค่ามหรสพการแสดงต่างๆ ค่าตอบแทน ค่าของที่ระลึกสำหรับคณะกรรม
A38: การ และผู้เข้าประกวดนางนพมาศ ค่าอุปกรณ์ในการประดิษฐ์กระทง และค่าใช้จ่าย
A39: อื่นที่จำเป็นในการจัดโครงการ
C40: โครงการจัดงานประเพณีวันกตัญญู | E40: จำนวน | F40: 80000 | G40: บาท
C41: เพื่อจ่ายเป็นค่าดำเนินงาน ตามโครงการจัดงานประเพณีวันกตัญญู
A42: เช่น ค่าจ้างเหมาเครื่องขยายเสียง เต็นท์ ค่าใช้จ่ายเกี่ยวกับการใช้และการตกแต่ง
A43: สถานที่ ค่าเช่าพาน ขันดอกไม้ ค่าดอกไม้ ค่าน้ำอบไทย ค่าวัสดุ อุปกรณ์ และค่าใช้
A44: จ่ายอื่นที่จำเป็นในการจัดโครงการ
C45: โครงการทอล์คโชว์ธรรมะ ปฏิบัติธรรมนำใจ | E45: จำนวน | F45: 75000 | G45: บาท
C46: เพื่อจ่ายเป็นค่าดำเนินงาน ตามโครงการทอล์คโชว์ธรรมะ ปฏิบัติ
A47: ธรรมนำใจ เช่น ค่าตอบแทนวิทยากร ค่าจ้างเหมาตกแต่งสถานที่ ค่ายานพาหนะ
A48: ค่าดอกไม้ ค่าป้ายโครงการ ค่าอาหาร ค่าอาหารว่างและเครื่องดื่ม ค่าจัดทำสื่อ
A49: ประชาสัมพันธ์ ค่าวัสดุ อุปกรณ์ ค่าใช้จ่ายอื่นที่จำเป็นในการจัดโครงการ
A51: งานวิชาการวางแผนและส่งเสริมการท่องเที่ยว | E51: รวม | F51: =F52 -> 630000 | G51: บาท
B52: งบดำเนินงาน | E52: รวม | F52: =F53 -> 630000 | G52: บาท
C53: ค่าใช้สอย | E53: รวม | F53: =F56+F64+F69 -> 630000 | G53: บาท
C54: รายจ่ายเกี่ยวเนื่องกับการปฏิบัติราชการที่ไม่เข้าลักษณะ
A55: รายจ่ายหมวดอื่นๆ
C56: โครงการจัดงานเทศกาลล่องเรือ แลนก ทะเลน้อย | E56: จำนวน | F56: 500000 | G56: บาท
C57: เพื่อจ่ายเป็นค่าดำเนินงาน ตามโครงการจัดงานเทศกาล ล่องเรือ
A58: แลนก ทะเลน้อย ประจำปี 2560 เช่น ค่าวัสดุ อุปกรณ์ ค่าป้ายโครงการ ค่าสมนาคุณ
A59: วิทยากร ค่าอาหาร ค่าอาหารว่างและเครื่องดื่ม ค่าใช้จ่ายเกี่ยวกับการใช้และการ
A60: ตกแต่งสถานที่ ค่าใช้จ่ายในพิธีเปิด ค่าจ้างเหมาเครื่องขยายเสียง ค่ามหรสพการ
A61: แสดงต่างๆ ค่าจัดนิทรรศการ สื่อประชาสัมพันธ์ ค่าใช้จ่ายในการจัดงานแถลงข่าว
A62: ค่าใช้จ่ายในการจัดประกวดภาพถ่าย และค่าใช้จ่ายอื่นที่จำเป็นในการจัดโครงการ
A63: (สำนักปลัดเทศบาล)
C64: โครงการเดินพาน แลชุมชน คนเลน้อย | E64: จำนวน | F64: 50000 | G64: บาท
C65: เพื่อจ่ายเป็นค่าดำเนินงาน ตามโครงการเดินพาน แลชุมชน
A66: คนเลน้อย เช่น ค่าวัสดุ อุปกรณ์ ค่าตกแต่งอาคารสถานที่ ค่าจัดทำสื่อประชา
A67: สัมพันธ์ ค่าจ้างเหมาการแสดง ค่าสมนาคุณวิทยากร ค่าใช้จ่ายอื่นที่จำเป็นในการ
A68: จัดโครงการ (สำนักปลัดเทศบาล)
C69: โครงการปั่นสองล้อตามง้อแสงตะวัน | E69: จำนวน | F69: 80000 | G69: บาท
C70: เพื่อจ่ายเป็นค่าดำเนินงาน ตามโครงการปั่นสองล้อตามง้อแสงตะวัน
A71: จ่ายเป็นค่าจัดทำสื่อประชาสัมพันธ์ ค่าสมนาคุณวิทยากร ค่าวัสดุ อุปกรณ์ ค่าอาหาร
A72: ว่างและเครื่องดื่ม ค่าจ้างเหมาเครื่องขยายเสียง ค่าใช้จ่ายเกี่ยวกับการใช้และตกแต่ง
A73: สถานที่ ค่าใช้จ่ายในพิธีเปิด ค่าใช้จ่ายอื่นที่จำเป็นในการจัดโครงการ
A74: (สำนักปลัดเทศบาล)

Sheet อุตสาหกรรมและการโยธา
A1: รายงานรายละเอียดประมาณการรายจ่ายงบประมาณรายจ่ายทั่วไป
A2: ประจำปีงบประมาณ พ.ศ.2560
A3: เทศบาลตำบลพนางตุง
A4: อำเภอควนขนุน จังหวัดพัทลุง
A5: แผนงานอุตสาหกรรมและการโยธา
A6: งานก่อสร้างโครงสร้างพื้นฐาน | E6: รวม | F6: =F7 -> 5076000 | G6: บาท | K6: =F6 -> 5076000
B7: งบลงทุน | E7: รวม | F7: =F8 -> 5076000 | G7: บาท
C8: ค่าที่ดินและสิ่งก่อสร้าง | E8: รวม | F8: =F9 -> 5076000 | G8: บาท
C9: ค่าก่อสร้างสิ่งสาธารณูปโภค | E9: รวม | F9: =F10+F19+F25 -> 5076000 | G9: บาท
C10: (1) ค่าก่อสร้างถนนคอนกรีตเสริมเหล็ก สายบ้านนายคำนวณ- | E10: จำนวน | F10: 2458000 | G10: บาท
A11: เหมืองชลประทาน
C12: เพื่อจ่ายเป็นค่าก่อสร้างถนนคอนกรีตเสริมเหล็ก สายบ้านนาย
A13: คำนวณ หมู่ที่ 6 ช่วงที่ 1 ก่อสร้างถนนคอนกรีตเสริมเหล็กขนาด กว้าง 4 เมตร
A14: ยาว 966 เมตร หนา 0.15 เมตร หรือมีพื้นที่ไม่น้อยกว่า 3,864 ตารางเมตร
A15: ไหล่ทางดินถมข้างละ 0.20 เมตร ช่วงที่ 2 ก่อสร้างถนนคอนกรีตเสริมเหล็กขนาด
A16: กว้าง 4 เมตร ยาว 35 เมตร หนา 0.15 เมตร หรือมีพื้นที่ไม่น้อยกว่า 140 ตาราง
A17: เมตร ไม่มีไหล่ทาง รายละเอียดปรากฏตามรูปแบบรายการของเทศบาลตำบล
A18: พนางตุง
C19: (2) ค่าก่อสร้างถนนคอนกรีตเสริมเหล็ก สายบ้านนายอวบ- | E19: จำนวน | F19: 1203000 | G19: บาท
A20: บ้านนายวิเชียร
C21: เพื่อจ่ายเป็นค่าก่อสร้างถนนคอนกรีตเสริมเหล็ก สายบ้านนายอวบ-
A22: บ้านนายวิเชียร หมู่ที่ 12 ผิวจราจรกว้าง 4 เมตร ยาว 500 เมตร หนา 0.15 เมตร
A23: หรือมีพื้นที่ไม่น้อยกว่า 2,000 ตารางเมตร ไหล่ทางหินคลุกข้างละ 0.50 เมตร ราย
A24: ละเอียดปรากฎตามรูปแบบรายการของเทศบาลตำบลพนางตุง
C25: (3) ค่าก่อสร้างสะพานคนเดินสายศาลาอิ้ง-บ้านนายดิ้ม | E25: จำนวน | F25: 1415000 | G25: บาท
C26: เพื่อก่อสร้างสะพานคนเดินสายศาลาอิ้ง-บ้านนายดิ้ม หมู่ที่ 1
A27: ดำเนินการรื้อพื้นเสาสะพานเดิมออกเว้นฐานรากเดิมแล้วก่อสร้างใหม่ขนาดพื้นทาง
A28: เดินกว้าง 1.50 เมตร หนา 0.10 เมตร ระยะห่างระหว่างเสา 4 เมตร ยาว 500 เมตร
A29: โดยให้ฐานรากใหม่ตั้งบนฐานรากเดิม รายละเอียดปรากฏตามรูปแบบรายการของ
A30: เทศบาลตำบลพนางตุง

Sheet การเกษตร
A1: รายงานรายละเอียดประมาณการรายจ่ายงบประมาณรายจ่ายทั่วไป
A2: ประจำปีงบประมาณ พ.ศ.2560
A3: เทศบาลตำบลพนางตุง
A4: อำเภอควนขนุน จังหวัดพัทลุง
A5: แผนงานการเกษตร
A6: งานส่งเสริมการเกษตร | E6: รวม | F6: =F7 -> 2355000 | G6: บาท | K6: =F6+F28 -> 2530000
B7: งบดำเนินงาน | E7: รวม | F7: =F8+F23 -> 2355000 | G7: บาท
C8: ค่าใช้สอย | E8: รวม | F8: =F11+F18 -> 55000 | G8: บาท
C9: รายจ่ายเกี่ยวเนื่องกับการปฏิบัติราชการที่ไม่เข้าลักษณะ
A10: รายจ่ายหมวดอื่นๆ
C11: โครงการพัฒนาศักยภาพการดำเนินงานของศูนย์ถ่ายทอด | E11: จำนวน | F11: 50000 | G11: บาท
A12: เทคโนโลยีทางการเกษตรประจำตำบลพนางตุง
C13: เพื่อจ่ายเป็นค่าดำเนินงาน ตามโครงการพัฒนาศักยภาพการดำเนิน
A14: งานของศูนย์ถ่ายทอดเทคโนโลยีทางการเกษตรประจำตำบลพนางตุง จ่ายเป็น
A15: ค่าเบี้ยประชุมของคณะกรรมการศูนย์ ค่าจัดทำสื่อประชาสัมพันธ์ ค่าอาหารว่าง
A16: และเครื่องดื่ม ค่าอาหาร ค่ายานพาหนะ ค่าสมนาคุณวิทยากร ค่าจัดทำป้ายโครงการ
A17: ค่าของสมนาคุณในการดูงาน และค่าใช้จ่ายอื่นที่จำเป็นในการจัดโครงการ
C18: โครงการขยายพันธุ์สัตว์น้ำจืดในแหล่งน้ำสาธารณะ | E18: จำนวน | F18: 5000 | G18: บาท
C19: เพื่อจ่ายเป็นค่าดำเนินงาน ตามโครงการขยายพันธุ์สัตว์น้ำจืดใน
A20: แหล่งน้ำสาธารณะ จ่ายเป็นค่าป้ายโครงการ ค่าอาหารว่างและเครื่องดื่ม ค่าจัดทำ
A21: สื่อประชาสัมพันธ์ ค่าอาหารสำหรับอนุบาลพันธุ์สัตว์น้ำจืด ค่าตาข่าย ค่าไม้ปักแนว
A22: และค่าใช้จ่ายอื่นที่จำเป็นในการจัดโครงการ
C23: ค่าสาธารณูปโภค | E23: รวม | F23: =F24 -> 2300000 | G23: บาท
C24: ค่าไฟฟ้า | E24: จำนวน | F24: 2300000 | G24: บาท
C25: เพื่อจ่ายเป็นค่าไฟฟ้า สำหรับสถานีสูบน้ำด้วยพลังไฟฟ้า
A26: ที่อยู่ในความดูแลของเทศบาล
A28: งานอนุรักษ์แหล่งน้ำและป่าไม้ | E28: รวม | F28: =F29 -> 175000 | G28: บาท
B29: งบดำเนินงาน | E29: รวม | F29: =F30 -> 175000 | G29: บาท
C30: ค่าใช้สอย | E30: รวม | F30: =F34+F40+F44+F49 -> 175000 | G30: บาท
C31: รายจ่ายเกี่ยวเนื่องกับการปฏิบัติราชการที่ไม่เข้าลักษณะ
A32: รายจ่ายหมวดอื่นๆ
C34: โครงการอนุรักษ์พันธุกรรมพืช เฉลิมพระเกียรติ | E34: จำนวน | F34: 100000 | G34: บาท
A35: สมเด็จพระเทพรัตนราชสุดา สยามบรมราชกุมารี งานฐานทรัพยากรท้องถิ่น
C36: เพื่อจ่ายเป็นค่าดำเนินงานตามโครงการอนุรักษ์พันธุกรรมพืช
A37: เฉลิมพระเกียรติ สมเด็จพระเทพรัตนราชสุดา สยามบรมราชกุมารี เช่น ค่าพันธุ์ไม้
A38: ค่าวัสดุ อุปกรณ์ ค่าอาหารว่างและเครื่องดื่ม ค่าอาหาร ค่าจัดทำป้าย ค่าจัด
A39: นิทรรศการ ค่าใช้จ่ายในการศึกษาดูงาน ค่าใช้จ่ายอื่นที่จำเป็นในการจัดโครงการ
C40: โครงการท้องถิ่นไทยรวมใจภักดิ์รักษ์พื้นที่สีเขียว | E40: จำนวน | F40: 5000 | G40: บาท
C41: เพื่อจ่ายเป็นค่าดำเนินงานตามโครงการท้องถิ่นไทยรวมใจภักดิ์
A42: รักษ์พื้นที่สีเขียว เช่น ค่าอาหารว่างและเครื่องดื่ม ค่าป้ายโครงการ ค่าวัสดุ อุปกรณ์
A43: ค่าใช้จ่ายอื่นที่จำเป็นในการจัดโครงการ
C44: โครงการจุลินทรีย์บำบัดน้ำเสีย | E44: จำนวน | F44: 20000 | G44: บาท
C45: เพื่อจ่ายเป็นค่าดำเนินงานตามโครงการจุลินทรีย์บำบัดน้ำเสีย
A46: เช่น ค่าเอกสาร ค่าวัสดุ อุปกรณ์ ค่าจัดซื้อเคมีภัณฑ์ ค่าสมนาคุณวิทยากร ค่าป้าย
A47: โครงการ ค่าอาหาร ค่าอาหารว่างและเครื่องดื่ม ค่าจัดทำสื่อประชาสัมพันธ์ ค่าใช้
A48: จ่ายอื่นที่จำเป็นในการจัดโครงการ
C49: โครงการค่ายเยาวชนอนุรักษ์พลังงานและสิ่งแวดล้อม | E49: จำนวน | F49: 50000 | G49: บาท
C50: เพื่อจ่ายเป็นค่าดำเนินงานตามโครงการค่ายเยาวชนอนุรักษ์พลังงาน
A51: และสิ่งแวดล้อม เช่น ค่าเอกสาร ค่าวัสดุ อุปกรณ์ ค่าสมนาคุณวิทยากร ค่ายาน
A52: พาหนะ ค่าอาหาร ค่าอาหารว่างและเครื่องดื่ม ค่าที่พัก ค่าของสมนาคุณในการดูงาน
A53: ค่าใช้จ่ายอื่นที่จำเป็นในการจัดโครงการ

Sheet การพาณิชย์
A1: รายงานรายละเอียดประมาณการรายจ่ายงบประมาณรายจ่ายทั่วไป
A2: ประจำปีงบประมาณ พ.ศ.2559
A3: เทศบาลตำบลพนางตุง
A4: อำเภอควนขนุน จังหวัดพัทลุง
A5: แผนงานการพาณิชย์
A6: งานกิจการประปา | E6: รวม | G6: บาท
B7: งบลงทุน | E7: รวม | G7: บาท
C8: ค่าที่ดินและสิ่งก่อสร้าง | E8: รวม | G8: บาท
C9: ค่าก่อสร้างสิ่งสาธารณูปโภค
C10: ค่าก่อสร้างระบบประปา | E10: จำนวน | G10: บาท
C11: เพื่อจ่ายเป็นค่าก่อสร้างระบบประปา แบบหอถังเหล็กเก็บน้ำ
A12: 20 ลบ.ม. ชนิดมีเสาเข็ม หมู่ที่ 5 รายละเอียดปรากฎตามรูปแบบรายการของ
A13: เทศบาลตำบลพนางตุง

Sheet Sheet1
