Workbook

Sheet งบกลาง
A1: รายงานรายละเอียดประมาณการรายจ่ายงบประมาณรายจ่ายทั่วไป
A2: ประจำปีงบประมาณ พ.ศ.2561
A3: เทศบาลตำบลพนางตุง
A4: อำเภอควนขนุน จังหวัดพัทลุง
A5: ประมาณการรายจ่ายรวมทั้งสิ้น | E5: จำนวน | F5: =บริหารงานทั่วไป!J6+บริหารงานทั่วไป!J7+บริหารงานทั่วไป!J8+บริหารงานทั่วไป!J9+บริหารงานทั่วไป!J11+บริหารงานทั่วไป!J12+บริหารงานทั่วไป!J13+บริหารงานทั่วไป!J14+บริหารงานทั่วไป!J15+บริหารงานทั่วไป!J17 -> 60990000 | G5: บาท
A6: จ่ายจากรายได้จัดเก็บเอง หมวดภาษีจัดสรร และหมวดเงินอุดหนุนทั่วไป แยกเป็น
A7: แผนงานงบกลาง
A8: งบกลาง | E8: รวม | F8: =F9 -> 20625344 | G8: บาท | K8: =F8 -> 20625344
B9: งบกลาง | E9: รวม | F9: =F10+F81 -> 20625344 | G9: บาท
C10: งบกลาง | E10: รวม | F10: =F11+F17+F21+F25+F34+F41+F71 -> 20585924 | G10: บาท
C11: เงินสมทบกองทุนประกันสังคม | E11: จำนวน | F11: =L11 -> 251706 | G11: บาท | K11: =บริหารงานทั่วไป!F67+บริหารงานทั่วไป!F71+บริหารงานทั่วไป!F269+บริหารงานทั่วไป!F273+การศึกษา!F25+การศึกษา!F29+การศึกษา!F116+การศึกษา!F121+เคหะและชุมชน!F25+เคหะและชุมชน!F29 -> 5034120 | L11: =K11*5/100 -> 251706
C12: เพื่อจ่ายเป็นเงินสมทบ กองทุนประกันสังคมในอัตราร้อยละ 5
A13: ของค่าตอบแทนพนักงานจ้าง โดยให้ถือปฏิบัติตามหนังสือสำนักงาน ก.จ.ก.ท.
A14: และ ก.อบต. ด่วนที่สุดที่ มท 0809.5/ว 9 ลงวันที่ 22 มกราคม 2557 พระราช
A15: บัญญัติประกันสังคม พ.ศ. 2533 และหนังสือสำนักงาน ก.จ.,ก.ท.และก.อบต.ด่วนที่สุด
A16: ที่ มท 0809.5/ว 81 ลงวันที่ 10 กรกฎาคม 2557 ตั้งจ่ายจากเงินรายได้
C17: เบี้ยยังชีพผู้สูงอายุ | E17: จำนวน | F17: 15169200 | G17: บาท
C18: เพื่อจ่ายเป็นเงินสนับสนุนการสร้างหลักประกันรายได้ให้แก่ผู้สูงอายุ
A19: โดยให้ถือปฏิบัติตามระเบียบกระทรวงมหาดไทย ว่าด้วยการจ่ายเงินสงเคราะห์เพื่อ
A20: การยังชีพขององค์กรปกครองส่วนท้องถิ่น พ.ศ.2548
C21: เบี้ยยังชีพคนพิการ | E21: จำนวน | F21: 3283200 | G21: บาท
C22: เพื่อจ่ายเป็นเงินสนับสนุนสวัสดิการทางสังคมให้แก่ผู้พิการหรือ
A23: ทุพพลภาพ โดยให้ถือปฏิบัติตามระเบียบกระทรวงมหาดไทย ว่าด้วยการจ่ายเงิน
A24: สงเคราะห์เพื่อการยังชีพขององค์กรปกครองส่วนท้องถิ่น พ.ศ.2548
C25: เบี้ยยังชีพผู้ป่วยเอดส์ | E25: จำนวน | F25: 180000 | G25: บาท | J25: 243047
C26: เพื่อจ่ายเป็นเงินช่วยเหลือเบี้ยยังชีพผู้ป่วยเอดส์ที่แพทย์ได้รับรอง | J26: 637767
A27: และทำการวินิจฉัยแล้ว และมีความเป็นอยู่ยากจน หรือถูกทอดทิ้งขาดผู้อุปการะ | J27: =J25+J26 -> 880814
A28: ดูแลไม่สามารถประกอบอาชีพเลี้ยงตนเองได้ โดยผู้ป่วยเอดส์ที่มีสิทธิจะได้รับเบี้ย
A29: ยังชีพคนละ 500 บาทต่อเดือน โดยให้ถือปฏิบัติตามระเบียบกระทรวงมหาดไทย | J29: 23099274 | K29: =J29*0.00167 -> 38575.788
A30: ว่าด้วยการจ่ายเงินสงเคราะห์เพื่อการยังชีพขององค์กรปกครองส่วนท้องถิ่น
A31: พ.ศ.2548
C34: สำรองจ่าย | E34: จำนวน | F34: 848564 | G34: บาท
C35: ตั้งจ่ายไว้เพื่อกรณีฉุกเฉิน ที่มีสาธารณภัยเกิดขึ้น หรือบรรเทา
A36: ปัญหาความเดือดร้อนของประชาชนเป็นส่วนรวมเท่านั้น โดยถือปฏิบัติตามหนังสือ
A37: กระทรวงมหาดไทย ด่วนมาก ที่ มท 0313.4/ว 667 ลงวันที่ 12 มีนาคม 2545
A38: หนังสือกระทรวงมหาดไทย ด่วนมาก ที่ มท 0808.2/ว 3456 ลงวันที่ 19 มิถุนายน
A39: 2558 และหนังสือกระทรวงมหาดไทย ที่ มท 0808.2/ว 3215 ลงวันที่ 6 มิถุนายน
A40: 2559
C41: รายจ่ายตามข้อผูกพัน | E41: รวม | F41: =F42+F50+F56+F67 -> 361354.5 | G41: บาท
C42: ค่าบำรุงสมาคมสันนิบาตเทศบาลแห่งประเทศไทย | E42: จำนวน | F42: 39667 | G42: บาท
C43: เพื่อจ่ายเป็นค่าบำรุงสมาคมสันนิบาตเทศบาลแห่งประเทศไทย
A44: โดยตั้งจ่าย ตามหนังสือกระทรวงมหาดไทย ด่วนมากที่ มท 0213.4/ว 2787
A45: ลงวันที่ 18 พฤศจิกายน 2542 โดยตั้งไว้เป็นรายปี อัตราร้อยละเศษหนึ่งส่วนหก
A46: ของรายรับจริงในปีที่ล่วงมาแล้ว (ไม่รวมเงินกู้ เงินจ่ายขาดเงินสะสม และเงินอุดหนุน
A47: ทุกประเภท) ซึ่งมีรายรับจริงของปีงบประมาณ 2559 เป็นเงิน 23,752,764.82 บาท
A48: เป็นค่าบำรุงสมาคมสันนิบาตเทศบาลแห่งประเทศไทย 39,667.12 บาท ขอตั้งไว้
A49: เป็นเงิน 39,667 บาท
C50: ค่าใช้จ่ายในการจัดจราจร | E50: จำนวน | F50: 80000 | G50: บาท
C51: เพื่อจ่ายเป็นค่าใช้จ่ายในการจัดการจราจรภายในเขตเทศบาล | J51: =#REF!*45 -> #REF!
A52: โดยตั้งจ่ายจากเงินรายได้ ประเภทค่าปรับผู้กระทำผิดกฎหมายจราจรทางบก | J52: =J51/2 -> #REF!
A53: และเงินรายได้ของเทศบาล เพื่อจ่ายเป็นค่าทาสี ตีเส้นจราจร แผงกั้นจัดทำป้าย
A54: สัญญาณไฟจราจร หรืออุปกรณ์ที่ใช้ในการควบคุมสัญจร และอื่นๆ ตามหนังสือ
A55: กระทรวงมหาดไทย ด่วนมาก ที่ มท 0313.4/ว 3203 ลงวันที่ 4 ตุลาคม 2539
C56: เงินสมทบกองทุนหลักประกันสุขภาพ | E56: จำนวน | F56: =K56 -> 226687.5 | G56: บาท | J56: 453375 | K56: =J56/2 -> 226687.5
C57: เพื่อจ่ายเป็นเงินสมทบกองทุนหลักประกันสุขภาพ โดยตั้งจ่ายไว้
A58: ไม่น้อยกว่าร้อยละ 50 ของค่าบริการสาธารณสุขที่ได้รับจากสำนักงานกองทุน
A59: หลักประกันสุขภาพแห่งชาติ ตามหนังสือ สำนักงานหลักประกันสุขภาพแห่งชาติ
A60: ที่ สปสช.5.33/ว 0190 เรื่อง การตั้งงบประมาณสมทบกองทุนหลักประกันสุขภาพ
A61: ระดับท้องถิ่น ลงวันที่ 16 กรกฎาคม 2557 โดยประชากรในเขตเทศบาลตำบล
A62: พนางตุง ข้อมูล ณ วันที่ 30 มิถุนายน 2560 มีจำนวน 10,075 คนๆละ 45 บาท
A63: เป็นเงิน 453,375 บาท
C67: ทุนการศึกษาสำหรับครูผู้ดูแลเด็ก | E67: จำนวน | F67: 15000 | G67: บาท
C68: เพื่อจ่ายเป็นทุนการศึกษาสำหรับผู้ดูแลเด็ก จำนวน 1 ราย ตาม
A69: โครงการความร่วมมือทางวิชาการระหว่างกรมส่งเสริมการปกครองท้องถิ่น กับ
A70: มหาวิทยาลัยราชภัฏสวนดุสิต
C71: เงินสมทบกองทุนบำเหน็จบำนาญข้าราชการส่วนท้องถิ่น | E71: จำนวน | F71: 491900 | G71: บาท | J71: ='[1]8.รายละเอียดประมาณการรายรับ'!$E$9+'[1]8.รายละเอียดประมาณการรายรับ'!$E$22+'[1]8.รายละเอียดประมาณการรายรับ'!$E$72+'[1]8.รายละเอียดประมาณการรายรับ'!$E$79+'[1]8.รายละเอียดประมาณการรายรับ'!$E$86+'[1]8.รายละเอียดประมาณการรายรับ'!$E$89+'[1]8.รายละเอียดประมาณการรายรับ'!$E$91+'[1]8.รายละเอียดประมาณการรายรับ'!$E$95+'[1]8.รายละเอียดประมาณการรายรับ'!$E$98 -> 24595000 | K71: =J71*2/100 -> 491900
C72: เพื่อจ่ายเป็นเงินสมทบ กองทุนบำเหน็จบำนาญข้าราชการส่วน
A73: ท้องถิ่น (กบท.) โดยถือปฏิบัติตามหนังสือสำนักงานกองทุนบำเหน็จบำนาญ
A74: ข้าราชการส่วนท้องถิ่น ที่ มท 0808.5/ว 28 ลงวันที่ 21 กรกฎาคม 2559 และ
A75: หนังสือสำนักงานกองทุนบำเหน็จบำนาญ ข้าราชการส่วนท้องถิ่น ที่ มท
A76: 0808.5/ว 29 ลงวันที่ 21 กรกฎาคม 2559 โดยคำนวณตั้งจ่ายร้อยละ 2 ของ
A77: ประมาณการรายรับทุกหมวด ทุกประเภท ยกเว้นประเภทพันธบัตร เงินกู้ เงินที่มี
A78: ผู้อุทิศให้/เงินบริจาค และเงินอุดหนุน ซึ่งมียอดประมาณการรายรับทั้งสิ้น
A79: 24,595,000 บาท คิดเป็น 491,900 บาท ตั้งจ่ายจากเงินรายได้
B81: บำเหน็จ/บำนาญ | E81: รวม | F81: =F82 -> 39420 | G81: บาท
C82: เงินบำเหน็จลูกจ้างประจำ | E82: จำนวน | F82: 39420 | G82: บาท
C83: เพื่อจ่ายเป็นเงินบำเหน็จลูกจ้างประจำ จำนวน 1 อัตรา โดยถือ
A84: ปฏิบัติตามหนังสือกรมส่งเสริมการปกครองท้องถิ่น ที่ มท 0808.5/ว 896
A85: ลงวันที่ 29 มีนาคม 2556 ตั้งจ่ายจากเงินรายได้

Sheet บริหารงานทั่วไป
A1: รายงานรายละเอียดประมาณการรายจ่ายงบประมาณรายจ่ายทั่วไป
A2: ประจำปีงบประมาณ พ.ศ.2561
A3: เทศบาลตำบลพนางตุง
A4: อำเภอควนขนุน จังหวัดพัทลุง
A5: แผนงานบริหารงานทั่วไป
A6: งานบริหารทั่วไป | E6: รวม | F6: =F7+F83+F225 -> 17335840 | G6: บาท | I6: แผนงานบริหารทั่วไป | J6: =F6+F238+F248 -> 20528200
B7: งบบุคลากร | E7: รวม | F7: =F8+F43 -> 10301040 | G7: บาท | I7: แผนงานการรักษาความสงบภายใน | J7: =การรักษาความสงบภายใน!F6 -> 90000
C8: เงินเดือน (ฝ่ายการเมือง) | E8: รวม | F8: =F9+F15+F22+F29+F36 -> 2624640 | G8: บาท | I8: แผนงานการศึกษา | J8: =การศึกษา!F6+การศึกษา!F108 -> 10062595
C9: เงินเดือนนายก/รองนายก | E9: จำนวน | F9: 695520 | G9: บาท | I9: แผนงานสาธารณสุข | J9: =สาธารณสุข!F6+สาธารณสุข!F42+สาธารณสุข!F59 -> 932000
C10: เพื่อจ่ายเป็นเงินเดือน นายกเทศมนตรี จำนวน 27,600.-บาท | I10: แผนงานสังคมสงเคราะห์ | J10: =สังคมสงเคราะห์!F6 -> 0
A11: ต่อเดือน 1 อัตรา และรองนายกเทศมนตรี จำนวน 15,180.-บาท ต่อเดือน 2 | I11: แผนงานเคหะและชุมชน | J11: =เคหะและชุมชน!F6+เคหะและชุมชน!F112 -> 5466860
A12: อัตรา ตามบัญชีอัตราเงินเดือน และค่าตอบแทนแนบท้าย ระเบียบกระทรวง | I12: แผนงานสร้างความเข้มแข็งชุมชน | J12: =สร้างความเข้มแข็งของชุมชน!F6 -> 70000
A13: มหาดไทย ว่าด้วยเงินเดือน เงินค่าตอบแทน และประโยชน์ตอบแทนอย่างอื่นของ | I13: แผนงานการศาสนาวัฒนธรรมฯ | J13: =การศาสนาวัฒนธรรมและนันทนาการ!F6+การศาสนาวัฒนธรรมและนันทนาการ!F24+การศาสนาวัฒนธรรมและนันทนาการ!F41 -> 1125000
A14: นายกเทศมนตรี รองนายกเทศมนตรี สมาชิกสภาเทศบาลฯ พ.ศ. 2554 (ข้อ 8) | I14: แผนงานอุตสาหกรรมและการโยธา | J14: =อุตสาหกรรมและการโยธา!F6 -> 0
C15: เงินค่าตอบแทนประจำตำแหน่งนายก/รองนายก | E15: จำนวน | F15: 120000 | G15: บาท | I15: แผนงานการเกษตร | J15: =การเกษตร!F6 -> 2090000
C16: เพื่อจ่ายเป็นเงินค่าตอบแทน ประจำตำแหน่งนายกเทศมนตรี | I16: แผนงานการพาณิชย์ | J16: 0
A17: จำนวน 4,000.- บาท ต่อเดือน 1 อัตรา และรองนายกเทศมนตรี จำนวน | I17: แผนงานงบกลาง | J17: =งบกลาง!F8 -> 20625344
A18: 3,000.-บาท ต่อเดือน 2 อัตรา ตามบัญชีอัตราเงินเดือน และค่าตอบแทนแนบท้าย | I18: รวม | J18: =J6+J7+J8+J9+J11+J12+J13+J14+J15+J17 -> 60990000
A19: ระเบียบกระทรวงมหาดไทย ว่าด้วยเงินเดือน เงินค่าตอบแทน และประโยชน์ | I19: ประมาณการรายรับ | J19: ='[1]8.รายละเอียดประมาณการรายรับ'!$B$6 -> 61000000
A20: ตอบแทนอย่างอื่น ของนายกเทศมนตรี รองนายกเทศมนตรี สมาชิกสภา | I20: คงเหลืองบลงทุน | J20: =J19-J18 -> 10000.1
A21: เทศบาลฯ พ.ศ.2554 (ข้อ 8)
C22: เงินค่าตอบแทนพิเศษนายก/รองนายก | E22: จำนวน | F22: 120000 | G22: บาท
C23: เพื่อจ่ายเป็นค่าตอบแทนพิเศษ ตำแหน่งนายกเทศมนตรี
A24: จำนวน 4,000.- บาท ต่อเดือน จำนวน 1 อัตรา และรองนายกเทศมนตรี
A25: จำนวน 3,000.- บาท ต่อเดือนจำนวน 2 อัตรา ตามบัญชีอัตราเงินเดือน และ
A26: ค่าตอบแทนแนบท้าย ระเบียบกระทรวงมหาดไทย ว่าด้วยเงินเดือน เงินค่าตอบ
A27: แทน และประโยชน์ตอบแทนอย่างอื่นของนายกเทศมนตรี รองนายกเทศมนตรี
A28: สมาชิกสภาเทศบาลฯ พ.ศ.2554 (ข้อ 8)
C29: เงินค่าตอบแทนเลขานุการ/ที่ปรึกษานายกเทศมนตรี | E29: จำนวน | F29: 198720 | G29: บาท
C30: เพื่อจ่ายเป็นเงินค่าตอบแทน รายเดือนเลขานุการนายกเทศมนตรี
A31: จำนวน 9,660.- บาท ต่อเดือน 1 อัตรา และที่ปรึกษานายกเทศมนตรี จำนวน
A32: 6,900.- บาท ต่อเดือน 1 อัตรา ตามบัญชีอัตราเงินเดือน และค่าตอบแทน แนบ
A33: ท้ายระเบียบกระทรวงมหาดไทย ว่าด้วยเงินเดือน เงินค่าตอบแทนและประโยชน์
A34: ตอบแทนอย่างอื่นของนายกเทศมนตรี รองนายกเทศมนตรี สมาชิกสภาเทศบาลฯ
A35: พ.ศ.2554 (ข้อ 8)
C36: เงินค่าตอบแทนสมาชิกสภาองค์กรปกครองส่วนท้องถิ่น | E36: จำนวน | F36: 1490400 | G36: บาท
C37: เพื่อจ่ายเป็นเงินค่าตอบแทนประธานสภา จำนวน 15,180.-บาท
A38: ต่อเดือน 1 อัตรา รองประธานสภา จำนวน 12,420.- บาท ต่อเดือน 1 อัตรา
A39: และสมาชิกสภาเทศบาล จำนวน 9,660.- บาท ต่อเดือน จำนวน 10 อัตรา
A40: ตามบัญชีอัตราเงินเดือน และค่าตอบแทน แนบท้ายระเบียบกระทรวงมหาด
A41: ไทย ว่าด้วยเงินเดือน เงินค่าตอบแทน และประโยชน์ตอบแทนอย่างอื่นของ
A42: นายกเทศมนตรี รองนายกเทศมนตรี สมาชิกสภาเทศบาลฯ พ.ศ.2544 (ข้อ 8)
C43: เงินเดือน (ฝ่ายประจำ) | E43: รวม | F43: =F44+F49+F56+F67+F71+F78 -> 7676400 | G43: บาท
C44: เงินเดือนพนักงาน | E44: จำนวน | F44: =[2]เงินเดือน!$I$21 -> 4139400 | G44: บาท
C45: เพื่อจ่ายเป็นเงินเดือนพนักงานเทศบาล พร้อมทั้งเงินปรับปรุงเงิน
A46: เดือนประจำปี ตามตำแหน่ง และอัตรา ตามนัยประกาศ ก.ท. เรื่องมาตรฐานกลาง
A47: การบริหารงานบุคคลส่วนท้องถิ่น (ฉบับที่ 5) พ.ศ.2558 จำนวน 14 อัตรา
A48: ตั้งจ่ายจากเงินรายได้ (สำนักปลัดเทศบาล)
C49: เงินเพิ่มต่างๆของพนักงาน | E49: รวม | F49: =F50+F53 -> 58320 | G49: บาท
C50: เงินเพิ่มพิเศษสำหรับการสู้รบ (พ.ส.ร.) | E50: จำนวน | F50: 4320 | G50: บาท
C51: เพื่อจ่ายเป็นเงินเพิ่มพิเศษสำหรับการสู้รบ (พ.ส.ร.) ให้กับพนักงาน
A52: เทศบาลที่มีสิทธิได้รับ จำนวน 1 อัตรา ตั้งจ่ายจากเงินรายได้
C53: เงินเพิ่มสำหรับตำแหน่งที่มีเหตุพิเศษ ตำแหน่ง นิติกร (พ.ต.ก) | E53: จำนวน | F53: 54000 | G53: บาท
C54: เพื่อจ่ายเป็นเงินเพิ่มสำหรับตำแหน่งที่มีเหตุพิเศษ ตำแหน่ง นิติกร
A55: (พ.ต.ก) จำนวน 1 อัตรา ตั้งจ่ายจากเงินรายได้
C56: เงินประจำตำแหน่ง | E56: จำนวน | F56: 162000 | G56: บาท
C57: เพื่อจ่ายเป็นเงินประจำตำแหน่งให้แก่ปลัดเทศบาล ระดับกลาง
A58: จำนวน 7,000.- บาท ต่อเดือน 1 อัตรา หัวหน้าสำนักปลัดเทศบาล ระดับต้น
A59: จำนวน 3,500.- บาท ต่อเดือน 1 อัตรา หัวหน้าฝ่ายอำนวยการ ระดับต้น
A60: จำนวน 1,500.- บาท ต่อเดือน 1 อัตรา หัวหน้าฝ่ายปกครอง ระดับต้น จำนวน
A61: 1,500.- บาท ต่อเดือน 1 อัตรา ตามประกาศคณะกรรมการกลางพนักงานเทศบาล
A62: เรื่อง มาตรฐานทั่วไปเกี่ยวกับอัตราเงินเดือน วิธีการจ่ายเงินเดือนและประโยชน์
A63: ตอบแทนอื่น (ฉบับที่ 7) ลงวันที่ 7 มีนาคม 2559 ตั้งจ่ายจากเงินรายได้
C67: ค่าตอบแทนพนักงานจ้าง | E67: จำนวน | F67: =[2]เงินเดือน!$I$177 -> 2918880 | G67: บาท | I67: 2881320
C68: เพื่อจ่ายเป็นเงินค่าตอบแทน ให้แก่พนักงานจ้างตามอัตราที่กำหนด
A69: โดยคำนวณตั้งจ่ายไว้ไม่เกิน 12 เดือน ตามประกาศ (ก.ท.จ.พัทลุง) เรื่องหลักเกณฑ์
A70: และเงื่อนไขเกี่ยวกับพนักงานจ้าง (ฉบับที่ 3) จำนวน 24 อัตรา ตั้งจ่ายจากเงินรายได้
C71: เงินเพิ่มต่างๆของพนักงานจ้าง | E71: รวม | F71: =[2]ค่าครองชีพ!$G$28 -> 313800 | G71: บาท
C72: เพื่อจ่ายเป็นเงินเพิ่มการครองชีพชั่วคราว ให้แก่พนักงานจ้าง
A73: ตามอัตราที่กำหนด โดยคำนวณตั้งจ่ายไว้ไม่เกิน 12 เดือน ตามประกาศ ก.จ.,ก.ท.,
A74: ก.อบต.เรื่อง กำหนดมาตรฐานทั่วไป เกี่ยวกับหลักเกณฑ์การให้พนักงานส่วนท้องถิ่น
A75: ลูกจ้าง และพนักงานจ้างขององค์กรปกครองส่วนท้องถิ่น ได้รับเงินเพิ่มการครองชีพ
A76: ชั่วคราว (ฉบับที่ 2) ลงวันที่ 18 มิถุนายน 2558 จำนวน 22 อัตรา
A77: ตั้งจ่ายจากเงินรายได้
C78: เงินอื่นๆ | E78: จำนวน | F78: 84000 | G78: บาท
C79: เพื่อจ่ายเป็นเงินค่าตอบแทนรายเดือนปลัดเทศบาล ระดับกลาง
A80: จำนวน 7,000.- บาท ต่อเดือน 1 อัตรา ตามประกาศคณะกรรมการกลางพนักงาน
A81: เทศบาล เรื่อง มาตรฐานทั่วไปเกี่ยวกับอัตราเงินเดือน วิธีการจ่ายเงินเดือนและ
A82: ประโยชน์ตอบแทนอื่น (ฉบับที่ 7) ลงวันที่ 7 มีนาคม 2559 ตั้งจ่ายจากเงินรายได้
B83: งบดำเนินงาน | E83: รวม | F83: =F84+F110+F163+F208 -> 6520800 | G83: บาท
C84: ค่าตอบแทน | E84: รวม | F84: =F85+F95+F100+F104+F107 -> 460800 | G84: บาท
C85: ค่าตอบแทนผู้ปฏิบัติราชการอันเป็นประโยชน์แก่ อปท. | E85: รวม | F85: =F86+F90 -> 110000 | G85: บาท
C86: เงินประโยชน์ตอบแทนอื่นเป็นกรณีพิเศษแก่ข้าราชการ และ | E86: จำนวน | F86: 10000 | G86: บาท
A87: พนักงานส่วนท้องถิ่น
C88: เพื่อจ่ายเป็นเงินประโยชน์ตอบแทนอื่นเป็นกรณีพิเศษให้แก่
A89: พนักงานเทศบาล ลูกจ้างประจำ และพนักงานจ้าง ตั้งจ่ายจากเงินรายได้
C90: ค่าตอบแทนผู้ปฏิบัติราชการอันเป็นประโยชน์แก่เทศบาล | E90: จำนวน | F90: 100000 | G90: บาท
C91: เพื่อจ่ายเป็นค่าตอบแทน ให้กับผู้ปฏิบัติราชการอันเป็นประโยชน์
A92: แก่เทศบาลตามระเบียบ และหนังสือสั่งการ เช่น คณะกรรมการเปิดซองสอบราคา
A93: /ประกวดราคา คณะกรรมการตรวจงานจ้าง ตามโครงการต่างๆ ค่าตอบแทน กรณี
A94: ขอใช้บริการของส่วนราชการอื่น เช่น บริการรถสุขา ค่าเบี้ยเลี้ยง ฯลฯ
C95: ค่าเบี้ยประชุม | E95: จำนวน | F95: 10000 | G95: บาท
C96: เพื่อจ่ายเป็นค่าเบี้ยประชุมกรรมการ ที่สภาเทศบาลแต่งตั้งขึ้น
A97: ตามระเบียบกระทรวงมหาดไทย ว่าด้วยเงินเดือน เงินค่าตอบแทน และประโยชน์
A98: ตอบแทนอย่างอื่น ของนายกเทศมนตรี รองนายกเทศมนตรี สมาชิกสภาที่ดำรง
A99: ตำแหน่งประธานสภาเทศบาลฯ พ.ศ. 2554 (ข้อ 8)
C100: ค่าตอบแทนการปฏิบัติงานนอกเวลาราชการ | E100: จำนวน | F100: 60000 | G100: บาท
C101: เพื่อจ่ายเป็นค่าตอบแทนการปฏิบัติงาน นอกเวลาราชการ ให้แก่
A102: พนักงานเทศบาล ลูกจ้างประจำ และพนักงานจ้าง ที่ได้รับคำสั่งให้ปฏิบัติงานนอก
A103: เวลาราชการเป็นครั้งคราว
...

Sheet การรักษาความสงบภายใน
A1: รายงานรายละเอียดประมาณการรายจ่ายงบประมาณรายจ่ายทั่วไป
A2: ประจำปีงบประมาณ พ.ศ.2561
A3: เทศบาลตำบลพนางตุง
A4: อำเภอควนขนุน จังหวัดพัทลุง
A5: แผนงานการรักษาความสงบภายใน
A6: งานป้องกันภัยฝ่ายพลเรือนและระงับอัคคีภัย | E6: รวม | F6: =F7 -> 90000 | G6: บาท
B7: งบดำเนินงาน | E7: รวม | F7: =F8+F18 -> 90000 | G7: บาท
C8: ค่าใช้สอย | E8: รวม | F8: =F11 -> 50000 | G8: บาท
C9: รายจ่ายเกี่ยวเนื่องกับการปฏิบัติราชการที่ไม่เข้าลักษณะ
A10: รายจ่ายหมวดอื่นๆ
C11: โครงการป้องกันและลดอุบัติเหตุทางถนน | E11: จำนวน | F11: 50000 | G11: บาท
C12: เพื่อจ่ายเป็นค่าดำเนินงานตามโครงการป้องกันและลดอุบัติเหตุ
A13: ทางถนนในช่วงเทศกาลสำคัญ เช่น เทศกาลปีใหม่ เทศกาลสงกรานต์ เป็นต้น และ
A14: มาตรการในการรักษาความปลอดภัยนักท่องเที่ยว โดยถือปฏิบัติ ตามหนังสือ
A15: กรมส่งเสริมการปกครองท้องถิ่น ด่วนที่สุด ที่ มท 0804.5/ว 1634 ลงวันที่ 22
A16: กันยายน 2557 จ่ายเป็นค่าเบี้ยเลี้ยง อปพร. ค่าอาหารว่างและเครื่องดื่ม
A17: ค่าอาหาร ค่าป้ายโครงการ และค่าใช้จ่ายอื่นที่จำเป็นในการจัดโครงการ
C18: ค่าวัสดุ | E18: รวม | F18: =F19 -> 40000 | G18: บาท
C19: วัสดุเครื่องแต่งกาย | E19: จำนวน | F19: 40000 | G19: บาท
C20: เพื่อจ่ายเป็นค่าวัสดุเครื่องแต่งกาย เช่น เครื่องแบบ เสื้อ กางเกง
A21: ผ้าหมวก รองเท้า เข็มขัด หมวก ผ้าผูกคอ และอื่นๆที่เข้าประเภทรายจ่ายนี้

Sheet การศึกษา
A1: รายงานรายละเอียดประมาณการรายจ่ายงบประมาณรายจ่ายทั่วไป
A2: ประจำปีงบประมาณ พ.ศ.2561
A3: เทศบาลตำบลพนางตุง
A4: อำเภอควนขนุน จังหวัดพัทลุง
A5: แผนงานการศึกษา
A6: งานบริหารทั่วไปเกี่ยวกับการศึกษา | E6: รวม | F6: =F7+F36 -> 3345540 | G6: บาท
B7: งบบุคลากร | E7: รวม | F7: =F8 -> 1728540 | G7: บาท
C8: เงินเดือน (ฝ่ายประจำ) | E8: รวม | F8: =F9+F14+F17+F25+F29 -> 1728540 | G8: บาท
C9: เงินเดือนพนักงาน | E9: จำนวน | F9: =[2]เงินเดือน!$I$97 -> 1124760 | G9: บาท
C10: เพื่อจ่ายเป็นเงินเดือนพนักงานเทศบาล พร้อมทั้งเงินปรับปรุงเงิน
A11: เดือนประจำปี ตามตำแหน่ง และอัตรา ตามนัยประกาศ ก.ท. เรื่องมาตรฐานกลาง
A12: การบริหารงานบุคคลส่วนท้องถิ่น (ฉบับที่ 5) พ.ศ.2558 จำนวน 3 อัตรา
A13: ตั้งจ่ายจากเงินรายได้
C14: เงินเพิ่มต่างๆของพนักงาน | E14: จำนวน | F14: 6360 | G14: บาท
C15: เพื่อจ่ายเป็นเงินเพิ่มพิเศษสำหรับการสู้รบ (พ.ส.ร.) ให้กับพนักงาน
A16: เทศบาลที่มีสิทธิได้รับ จำนวน 1 อัตรา ตั้งจ่ายจากเงินรายได้
C17: เงินประจำตำแหน่ง | E17: จำนวน | F17: 78000 | G17: บาท
C18: เพื่อจ่ายเป็นเงินประจำตำแหน่งให้แก่ ผู้อำนวยการกองการศึกษา
A19: ระดับต้น จำนวน 3,500.- บาท ต่อเดือน 1 อัตรา หัวหน้าฝ่ายบริหารการศึกษา
A20: ระดับต้น จำนวน 1,500.- บาท ต่อเดือน 1 อัตรา หัวหน้าฝ่ายส่งเสริมการศึกษา
A21: ศาสนา และวัฒนธรรม ระดับต้น จำนวน 1,500.- บาท ต่อเดือน 1 อัตรา ตาม
A22: ประกาศคณะกรรมการกลางพนักงานเทศบาล เรื่อง มาตรฐานทั่วไปเกี่ยวกับอัตรา
A23: เงินเดือน วิธีการจ่ายเงินเดือนและประโยชน์ตอบแทนอื่น (ฉบับที่ 7) ลงวันที่ 7
A24: มีนาคม 2559 ตั้งจ่ายจากเงินรายได้
C25: ค่าตอบแทนพนักงานจ้าง | E25: จำนวน | F25: =[2]เงินเดือน!$I$273 -> 471720 | G25: บาท
C26: เพื่อจ่ายเป็นเงินค่าตอบแทน ให้แก่พนักงานจ้างตามอัตราที่กำหนด
A27: โดยคำนวณตั้งจ่ายไว้ไม่เกิน 12 เดือน ตามประกาศ (ก.ท.จ.พัทลุง) เรื่องหลักเกณฑ์
A28: และเงื่อนไขเกี่ยวกับพนักงานจ้าง (ฉบับที่ 3) จำนวน 4 อัตรา ตั้งจ่ายจากเงินรายได้
C29: เงินเพิ่มต่างๆของพนักงานจ้าง | E29: จำนวน | F29: =[2]ค่าครองชีพ!$G$97 -> 47700 | G29: บาท
C30: เพื่อจ่ายเป็นเงินเพิ่มการครองชีพชั่วคราว ให้แก่พนักงานจ้าง
A31: ตามอัตราที่กำหนด โดยคำณวนตั้งจ่ายไว้ไม่เกิน 12 เดือน ตามประกาศ ก.จ.,ก.ท.
A32: ก.อบต. เรื่องกำหนดมาตรฐานทั่วไปเกี่ยวกับหลักเกณฑ์การให้พนักงานส่วนท้องถิ่น
A33: ลูกจ้าง และพนักงานจ้างขององค์กรปกครองส่วนท้องถิ่น ได้รับเงินเพิ่มการครองชีพ
A34: ชั่วคราว (ฉบับที่ 2) ลงวันที่ 18 มิถุนายน 2558 จำนวน 4 อัตรา ตั้งจ่ายจาก
A35: เงินรายได้
B36: งบดำเนินงาน | E36: รวม | F36: =F37+F48+F70+F100 -> 1617000 | G36: บาท
C37: ค่าตอบแทน | E37: รวม | F37: =F38+F41+F45 -> 62000 | G37: บาท
C38: ค่าตอบแทนผู้ปฏิบัติราชการอันเป็นประโยชน์แก่ อปท. | E38: จำนวน | F38: 10000 | G38: บาท
C39: เพื่อจ่ายเป็นเงินประโยชน์ตอบแทนอื่น เป็นกรณีพิเศษ ให้แก่
A40: พนักงานเทศบาล และพนักงานจ้าง ตั้งจ่ายจากเงินรายได้
C41: ค่าตอบแทนการปฏิบัติงานนอกเวลาราชการ | E41: จำนวน | F41: 10000 | G41: บาท
C42: เพื่อจ่ายเป็นค่าตอบแทนการปฏิบัติงาน นอกเวลาราชการ ให้แก่
A43: พนักงานเทศบาล และพนักงานจ้าง ที่ได้รับคำสั่งให้ปฏิบัติงานนอกเวลาราชการ
A44: เป็นครั้งคราว
C45: ค่าเช่าบ้าน | E45: จำนวน | F45: 42000 | G45: บาท
C46: เพื่อจ่ายเป็นค่าเช่าบ้านให้กับพนักงานเทศบาล ที่มีสิทธิเบิกได้ตาม
A47: ระเบียบฯ ตั้งจ่ายจากเงินรายได้
C48: ค่าใช้สอย | E48: รวม | F48: =F49+F55+F62+F67 -> 1140000 | G48: บาท
C49: รายจ่ายเพื่อให้ได้มาซึ่งบริการ | E49: จำนวน | F49: 500000 | G49: บาท
C50: เพื่อจ่ายเป็นค่าจ้างเหมาบริการ ทำอย่างใด อย่างหนึ่ง เช่น ค่า
A51: โฆษณาเผยแพร่ ค่าธรรมเนียมต่างๆ ค่าเย็บเล่ม เข้าปกหนังสือ ค่าจ้างเหมาจัดทำ
A52: เอกสาร หนังสือ คู่มือต่างๆค่าจ้างเหมากำจัดปลวก และแมลง รวมทั้งค่าจ้างเหมา
A53: บุคคลภายนอก เป็นค่าใช้จ่ายที่เทศบาลไม่สามารถดำเนินการเองได้ และเข้า
A54: ประเภทรายจ่ายนี้
C55: รายจ่ายเกี่ยวกับการรับรองและพิธีการ | E55: จำนวน | F55: 10000 | G55: บาท
C56: เพื่อจ่ายเป็นค่ารับรองในการต้อนรับบุคคล หรือคณะบุคคลที่
A57: มานิเทศตรวจงานหรือเยี่ยมชม หรือทัศนศึกษาดูงาน ตั้งจ่ายไว้ไม่เกินร้อยละ 1
A58: ของรายได้จริงในปีที่ล่วงมา โดยไม่รวมเงินอุดหนุน เฉพาะกิจ เงินกู้ เงินจ่ายขาด
A59: สะสม และเงินที่มีผู้อุทิศให้
C60: รายจ่ายเกี่ยวเนื่องกับการปฏิบัติราชการที่ไม่เข้าลักษณะ
A61: รายจ่ายหมวดอื่นๆ
C62: ค่าใช้จ่ายในการเดินทางไปราชการ | E62: จำนวน | F62: 130000 | G62: บาท
C63: เพื่อจ่ายเป็นค่าอบรม ค่าเบี้ยเลี้ยง ค่ายานพาหนะ ค่าเช่าที่พัก
A64: ระหว่างเดินทางในประเทศ และต่างประเทศ ให้แก่ พนักงานเทศบาล และพนักงาน
A65: จ้าง ที่มีความจำเป็นต้องเดินทางไปราชการ หรือมีการโอนย้าย หรือเข้ารับการ
A66: อบรมสัมมนา หรือสอบคัดเลือก และมีสิทธิตามระเบียบที่ทางราชการกำหนด
C67: ค่าบำรุงรักษาและซ่อมแซม | E67: จำนวน | F67: 500000 | G67: บาท
C68: เพื่อเป็นค่าใช้จ่ายในการบำรุง รักษา หรือซ่อมแซม ทรัพย์สิน
A69: เพื่อให้สามารถใช้งานได้ตามปกติ
C70: ค่าวัสดุ | E70: รวม | F70: =F71+F75+F78+F82+F85+F88+F92+F95 -> 360000 | G70: บาท
C71: วัสดุสำนักงาน | E71: จำนวน | F71: 40000 | G71: บาท
C72: เพื่อจ่ายเป็นค่าจัดซื้อวัสดุ อุปกรณ์ และสิ่งของเครื่องใช้ต่างๆ เช่น
A73: กระดาษแฟ้ม ปากกา ดินสอ เก้าอี้ทำงาน โทรศัพท์ ตู้อเนกประสงค์ และอื่นๆ ที่เข้า
A74: ประเภทรายจ่ายนี้
C75: วัสดุไฟฟ้าและวิทยุ | E75: จำนวน | F75: 15000 | G75: บาท
C76: เพื่อจ่ายเป็นค่าจัดซื้อวัสดุไฟฟ้า และวิทยุ เช่น ฟิวส์ สายไฟปลั๊กไฟ
A77: ตลับแยกสายไฟ เบรกเกอร์ หลอดไฟฟ้า และอื่นๆ ที่เข้าประเภทรายจ่ายนี้
C78: วัสดุงานบ้านงานครัว | E78: จำนวน | F78: 50000 | G78: บาท
C79: เพื่อจ่ายเป็นค่าซื้อวัสดุงานบ้านงานครัว เช่น ไม้กวาด ไม้ถูพื้น
A80: แปรง ขัดพื้น ถังน้ำ แก้วน้ำ จานรอง ถ้วยชาม ถ้วยกาแฟ ถังขยะแบบมีล้อ ถังขยะ
A81: เคมี และอื่นๆที่เข้าประเภทรายจ่ายนี้
C82: วัสดุก่อสร้าง | E82: จำนวน | F82: 50000 | G82: บาท
C83: เพื่อจ่ายเป็นค่าจัดซื้อวัสดุก่อสร้าง เช่น ไม้ต่างๆ ปูนขาว ปูนซิเมนต์
A84: ทราย เหล็กเส้น ตะปู จอบ ท่อน้ำ และอื่นๆที่เข้าประเภทรายจ่ายนี้
C85: วัสดุการเกษตร | E85: จำนวน | F85: 30000 | G85: บาท
C86: เพื่อจ่ายเป็นค่าวัสดุการเกษตร เช่น ปุ๋ย พันธุ์พืช วัสดุเพาะชำ
A87: อุปกรณ์ในการขยายพันธุ์ และอื่นๆที่เข้าประเภทรายจ่ายนี้
C88: วัสดุโฆษณาและเผยแพร่ | E88: จำนวน | F88: 5000 | G88: บาท
C89: เพื่อจ่ายเป็นค่าวัสดุโฆษณา และเผยแพร่ประชาสัมพันธ์ กิจกรรม
A90: นโยบายของภาครัฐ เช่น ค่ากระดาษเขียน โปสเตอร์ พู่กัน และสี ภาพถ่าย
A91: ดาวเทียม และอื่นๆที่เข้าประเภทรายจ่ายนี้
C92: วัสดุกีฬา | E92: จำนวน | F92: 80000 | G92: บาท | J92: 14724000
C93: เพื่อจ่ายเป็นค่าวัสดุกีฬา เช่น ลูกฟุตบอล ตะกร้อ นวม นาฬิกา จับ | J93: 2563200
A94: เวลา นกหวีด เสาตาข่ายกีฬา และอื่นๆที่เข้าประเภทรายจ่ายนี้ | J94: 180000
C95: วัสดุคอมพิวเตอร์ | E95: จำนวน | F95: 90000 | G95: บาท | J95: 1388659
C96: เพื่อจ่ายเป็นค่าวัสดุคอมพิวเตอร์ เช่น หมึกคอมพิวเตอร์ กระดาษ | J96: 2244000
A97: ต่อเนื่อง เมาส์ แป้นพิมพ์ แผ่นซีดี/ดีวีดีหรือจานบันทึกข้อมูล และอื่นๆที่เข้า | J97: 89096
A98: ประเภทรายจ่ายนี้ | J98: 229200
C100: ค่าสาธารณูปโภค | E100: รวม | F100: =F101+F104 -> 55000 | G100: บาท
C101: ค่าไฟฟ้า | E101: จำนวน | F101: 30000 | G101: บาท
...

Sheet สาธารณสุข
A1: รายงานรายละเอียดประมาณการรายจ่ายงบประมาณรายจ่ายทั่วไป
A2: ประจำปีงบประมาณ พ.ศ.2561
A3: เทศบาลตำบลพนางตุง
A4: อำเภอควนขนุน จังหวัดพัทลุง
A5: แผนงานสาธารณสุข
A6: งานบริหารทั่วไปเกี่ยวกับสาธารณสุข | E6: รวม | F6: =F7+F13 -> 72000 | G6: บาท | K6: =F6+F42+F59 -> 932000
B7: งบดำเนินงาน | E7: รวม | F7: =F8 -> 50000 | G7: บาท
C8: ค่าวัสดุ | E8: รวม | F8: =F9 -> 50000 | G8: บาท
C9: วัสดุวิทยาศาสตร์หรือการแพทย์ | E9: จำนวน | F9: 50000 | G9: บาท
C10: เพื่อจ่ายเป็นค่าวัสดุวิทยาศาสตร์หรือการแพทย์ เช่น จัดซื้อน้ำยา
A11: เคมี เคมีภัณฑ์ ถุงมือ ผ้าพันแผล เพื่อใช้ในกิจการต่างๆ เช่น ตรวจสารเสพติด
A12: และอื่นๆที่เข้าประเภทรายจ่ายนี้
B13: งบลงทุน | E13: รวม | F13: =F14 -> 22000 | G13: บาท
C14: ค่าครุภัณฑ์ | E14: รวม | F14: =F15+F37 -> 22000 | G14: บาท
C15: ครุภัณฑ์คอมพิวเตอร์ | E15: รวม | F15: =F16 -> 22000 | G15: บาท
C16: ค่าซื้อเครื่องคอมพิวเตอร์ | E16: จำนวน | F16: 22000 | G16: บาท
C17: เพื่อจ่ายเป็นค่าจัดซื้อเครื่องคอมพิวเตอร์ สำหรับงานประมวลผล
A18: จำนวน 1 เครื่อง คุณลักษณะพื้นฐาน มีหน่วยประมวลผลกลาง (CPU) ไม่น้อยกว่า
A19: 4 แกนหลัก (4 core) จำนวน 1 หน่วย โดยมีคุณลักษณะอย่างใดอย่างหนึ่ง หรือดี
A20: กว่า ดังนี้
A21: 1) ในกรณีที่มีหน่วยความจำแบบ Cache Memory ขนาดไม่น้อยกว่า 2 MB
A22: โดยมีความเร็วสัญญาณนาฬิกาพื้นฐานไม่น้อยกว่า 3.8 GHz และมีหน่วยประมวล
A23: ผลด้านกราฟิก (Graphics Processing Unit) ไม่น้อยกว่า 8 แกน หรือ
A24: 2) ในกรณีที่มีหน่วยความจำแบบ Cache Memory ขนาดไม่น้อยกว่า 6 MB ต้องมี
A25: ความเร็วสัญญาณนาฬิกาพื้นฐานไม่น้อยกว่า 2.7 GHz มีหน่วยประมวลผล เพื่อ
A26: แสดงภาพ โดยมีคุณลักษณะอย่างใดอย่างหนึ่ง หรือดีกว่า ดังนี้
A27: 1) เป็นแผงวงจรเพื่อแสดงภาพแยกจากแผงวงจรหลักที่มีหน่วยความจำขนาดไม่น้อย
A28: กว่า 1 GB หรือ 2) มีหน่วยประมวลผลเพื่อแสดงภาพติดตั้งอยู่ภายในหน่วยประมวล
A29: ผลกลาง แบบ Graphics Processing Unit ที่สามารถใช้หน่วยความจำหลักในการ
... A40: เกณฑ์ราคากลางและคุณลักษณะพื้นฐานครุภัณฑ์คอมพิวเตอร์ ประจำปี 2560
A42: งานโรงพยาบาล | E42: รวม | F42: =F43 -> 60000 | G42: บาท
B43: งบดำเนินงาน | E43: รวม | F43: =F44 -> 60000 | G43: บาท
C44: ค่าใช้สอย | E44: รวม | F44: =F47+F53 -> 60000 | G44: บาท
C45: รายจ่ายเกี่ยวเนื่องกับการปฏิบัติราชการที่ไม่เข้าลักษณะ
A46: รายจ่ายหมวดอื่นๆ
C47: โครงการป้องกันควบคุมโรคพิษสุนัขบ้า | E47: จำนวน | F47: 30000 | G47: บาท
C48: เพื่อจ่ายเป็นค่าดำเนินงานตามโครงการป้องกันควบคุมโรคพิษสุนัข
A49: บ้า เช่น ค่าจัดซื้อวัคซีน ค่าตอบแทน เจ้าหน้าที่ผู้ปฏิบัติ ค่าป้ายโครงการ ค่าวัสดุ
A50: เครื่องเขียน และอุปกรณ์ ค่าใช้จ่ายเกี่ยวกับการใช้และการตกแต่งสถานที่ ค่าอาหาร
A51: ค่าอาหารว่าง และเครื่องดื่ม ค่าจ้างเหมาเครื่องขยายเสียง ค่าใช้จ่ายอื่นที่จำเป็นใน
A52: การจัดโครงการ
C53: โครงการสร้างภูมิคุ้มกันปัญหายาเสพติดในเยาวชนกลุ่มเสี่ยง | E53: จำนวน | F53: 30000 | G53: บาท
C54: เพื่อจ่ายเป็นค่าดำเนินงานตามโครงการสร้างภูมิคุ้มกันปัญหา
A55: ยาเสพติดในเยาวชนกลุ่มเสี่ยง เช่น ค่าอาหารว่างและเครื่องดื่ม ค่าอาหาร ค่าตอบ
A56: แทนวิทยากร ค่าวัสดุอุปกรณ์ ค่าป้ายไวนิล ค่าเช่าเครื่องขยายเสียง ค่าใช้จ่ายอื่นที่
A57: จำเป็นในการจัดโครงการ
A59: งานบริการสาธารณสุขและงานสาธารณสุขอื่น | E59: รวม | F59: =F60 -> 800000 | G59: บาท
B60: งบดำเนินงาน | E60: รวม | F60: =F61 -> 800000 | G60: บาท
C61: ค่าใช้สอย | E61: รวม | F61: =F64 -> 800000 | G61: บาท
C62: รายจ่ายเกี่ยวเนื่องกับการปฏิบัติราชการที่ไม่เข้าลักษณะ
A63: รายจ่ายหมวดอื่นๆ
C64: โครงการบริการการแพทย์ฉุกเฉิน | E64: จำนวน | F64: 800000 | G64: บาท
C65: เพื่อจ่ายเป็นค่าดำเนินงาน ตามโครงการบริการการแพทย์ฉุกเฉิน
A66: เช่น ค่าวัสดุ อุปกรณ์ ค่าตอบแทนการปฏิบัติงาน ในการบริการการแพทย์ฉุกเฉิน
A67: ของเจ้าหน้าที่หน่วยกู้ชีพ ค่าลงทะเบียนฝึกอบรมเพิ่มประสิทธิภาพการปฏิบัติหน้าที่
A68: ค่าใช้จ่ายอื่นที่จำเป็นในการจัดโครงการ ถือปฏิบัติตามหนังสือกระทรวงมหาดไทย
A69: ที่ มท 0891.3/ว 2826 ลงวันที่ 17 กันยายน 2553

Sheet สังคมสงเคราะห์
A1: รายงานรายละเอียดประมาณการรายจ่ายงบประมาณรายจ่ายทั่วไป
A2: ประจำปีงบประมาณ พ.ศ.2560
A3: เทศบาลตำบลพนางตุง
A4: อำเภอควนขนุน จังหวัดพัทลุง
A5: แผนงานสังคมสงเคราะห์
A6: งานสวัสดิการและสังคมสงเคราะห์ | E6: รวม | F6: =F7 -> 0 | G6: บาท | K6: =F6 -> 0
B7: งบเงินอุดหนุน | E7: รวม | F7: =F8 -> 0 | G7: บาท
C8: เงินอุดหนุน | E8: รวม | F8: =F10 -> 0 | G8: บาท
C9: เงินอุดหนุนกิจการที่เป็นสาธารณประโยชน์
C10: อุดหนุนเหล่ากาชาดจังหวัดพัทลุง | E10: จำนวน | F10: 0 | G10: บาท
C11: เพื่อจ่ายอุดหนุนเป็นค่าดำเนินภารกิจของเหล่ากาชาดจังหวัดพัทลุง
A12: ในการช่วยเหลือประชาชนที่ได้รับความเดือดร้อน ทั้งด้านการบรรเทาสาธารณภัย
A13: การสังคมสงเคราะห์ การพัฒนาคุณภาพชีวิต เด็ก สตรี คนชรา และผู้ด้อยโอกาส

Sheet เคหะและชุมชน
A1: รายงานรายละเอียดประมาณการรายจ่ายงบประมาณรายจ่ายทั่วไป
A2: ประจำปีงบประมาณ พ.ศ.2561
A3: เทศบาลตำบลพนางตุง
A4: อำเภอควนขนุน จังหวัดพัทลุง
A5: แผนงานเคหะและชุมชน
A6: งานบริหารทั่วไปเกี่ยวกับเคหะและชุมชน | E6: รวม | F6: =F7+F36+F104 -> 5446860 | G6: บาท
B7: งบบุคลากร | E7: รวม | F7: =F8 -> 2230860 | G7: บาท
C8: เงินเดือน (ฝ่ายประจำ) | E8: รวม | F8: =F9+F14+F17+F25+F29 -> 2230860 | G8: บาท
C9: เงินเดือนพนักงาน | E9: จำนวน | F9: =[2]เงินเดือน!$I$70 -> 1707360 | G9: บาท
C10: เพื่อจ่ายเป็นเงินเดือนพนักงานเทศบาล พร้อมทั้งเงินปรับปรุงเงิน
A11: เดือนประจำปี ตามตำแหน่ง และอัตรา ตามนัยประกาศ ก.ท. เรื่องมาตรฐานกลาง
A12: การบริหารงานบุคคลส่วนท้องถิ่น (ฉบับที่ 5) พ.ศ.2558 จำนวน 5 อัตรา
A13: ตั้งจ่ายจากเงินรายได้ (กองช่าง)
C14: เงินเพิ่มต่างๆของพนักงาน | E14: รวม | F14: 2880 | G14: บาท
C15: เพื่อจ่ายเป็นเงินเพิ่มพิเศษสำหรับการสู้รบ (พ.ส.ร.) ให้กับพนักงาน
A16: เทศบาลที่มีสิทธิได้รับ จำนวน 1 อัตรา ตั้งจ่ายจากเงินรายได้
C17: เงินประจำตำแหน่ง | E17: จำนวน | F17: 78000 | G17: บาท
C18: เพื่อจ่ายเป็นเงินประจำตำแหน่งให้แก่ ผู้อำนวยการกองช่าง
A19: ระดับต้น จำนวน 3,500.- บาท ต่อเดือน 1 อัตรา หัวหน้าฝ่ายการโยธา
A20: ระดับต้น จำนวน 1,500.- บาท ต่อเดือน 1 อัตรา หัวหน้าฝ่ายแบบแผนและ
A21: ก่อสร้าง ระดับต้น จำนวน 1,500.- บาท ต่อเดือน 1 อัตรา ตามประกาศ
A22: คณะกรรมการกลางพนักงานเทศบาล เรื่อง มาตรฐานทั่วไปเกี่ยวกับอัตรา
A23: เงินเดือน วิธีการจ่ายเงินเดือนและประโยชน์ตอบแทนอื่น (ฉบับที่ 7) ลงวันที่ 7
A24: มีนาคม 2559 ตั้งจ่ายจากเงินรายได้
C25: ค่าตอบแทนพนักงานจ้าง | E25: จำนวน | F25: =[2]เงินเดือน!$I$243 -> 389160 | G25: บาท
C26: เพื่อจ่ายเป็นเงินค่าตอบแทน ให้แก่พนักงานจ้างตามอัตราที่กำหนด
A27: โดยคำนวณตั้งจ่ายไว้ไม่เกิน 12 เดือน ตามประกาศ (ก.ท.จ.พัทลุง) เรื่องหลักเกณฑ์
A28: และเงื่อนไขเกี่ยวกับพนักงานจ้าง (ฉบับที่ 3) จำนวน 3 อัตรา ตั้งจ่ายจากเงินรายได้
C29: เงินเพิ่มต่างๆของพนักงานจ้าง | E29: รวม | F29: =[2]ค่าครองชีพ!$G$67 -> 53460 | G29: บาท
C30: เพื่อจ่ายเป็นเงินเพิ่มการครองชีพชั่วคราว ให้แก่พนักงานจ้าง
A31: ตามอัตราที่กำหนด โดยคำนวณตั้งจ่ายไว้ไม่เกิน 12 เดือน ตามประกาศ ก.จ.,ก.ท.
A32: ก.อบต. เรื่องกำหนดมาตรฐานทั่วไปเกี่ยวกับหลักเกณฑ์การให้พนักงานส่วนท้องถิ่น
A33: ลูกจ้าง และพนักงานจ้างขององค์กรปกครองส่วนท้องถิ่น ได้รับเงินเพิ่มการครองชีพ
A34: ชั่วคราว (ฉบับที่ 2) ลงวันที่ 18 มิถุนายน 2558 จำนวน 3 อัตรา
A35: ตั้งจ่ายจากเงินรายได้
B36: งบดำเนินงาน | E36: รวม | F36: =F37+F51+F70+F100 -> 2916000 | G36: บาท
C37: ค่าตอบแทน | E37: รวม | F37: =F38+F41+F45+F48 -> 71000 | G37: บาท
C38: ค่าตอบแทนผู้ปฏิบัติราชการอันเป็นประโยชน์แก่ อปท. | E38: จำนวน | F38: 10000 | G38: บาท
C39: เพื่อจ่ายเป็นเงินประโยชน์ตอบแทนอื่น เป็นกรณีพิเศษ ให้แก่
A40: พนักงานเทศบาล และพนักงานจ้าง ตั้งจ่ายจากเงินรายได้
C41: ค่าตอบแทนการปฏิบัติงานนอกเวลาราชการ | E41: จำนวน | F41: 10000 | G41: บาท
C42: เพื่อจ่ายเป็นค่าตอบแทนการปฏิบัติงาน นอกเวลาราชการ ให้แก่
A43: พนักงานเทศบาล และพนักงานจ้าง ที่ได้รับคำสั่งให้ปฏิบัติงานนอกเวลาราชการ
A44: เป็นครั้งคราว
C45: ค่าเช่าบ้าน | E45: จำนวน | F45: 36000 | G45: บาท
C46: เพื่อจ่ายเป็นค่าเช่าบ้านให้กับพนักงานเทศบาล ที่มีสิทธิเบิกได้ตาม
A47: ระเบียบฯ ตั้งจ่ายจากเงินรายได้
C48: เงินช่วยเหลือการศึกษาบุตร | E48: จำนวน | F48: 15000 | G48: บาท
C49: เพื่อจ่ายเป็นเงินช่วยเหลือการศึกษาบุตร ให้แก่ พนักงานเทศบาล
A50: ผู้มีสิทธิเบิกได้ตามระเบียบฯ ตั้งจ่ายจากเงินรายได้
C51: ค่าใช้สอย | E51: รวม | F51: =F52+F60+F67 -> 1650000 | G51: บาท
C52: รายจ่ายเพื่อให้ได้มาซึ่งบริการ | E52: จำนวน | F52: 500000 | G52: บาท
C53: เพื่อจ่ายเป็นค่าจ้างเหมาบริการ ทำอย่างใด อย่างหนึ่ง เช่น ค่า
A54: ถ่ายแบบพิมพ์เขียว ค่าจ้างเหมาเครื่องจักรกล ค่าธรรมเนียมต่างๆ ค่าจ้างเหมา
A55: จัดทำเอกสาร หนังสือ คู่มือต่างๆค่าจ้างเหมาเป่าล้างบ่อบาดาล รวมทั้งค่าจ้างเหมา
A56: บุคคลภายนอก เป็นค่าใช้จ่ายที่เทศบาลไม่สามารถดำเนินการเองได้ และเข้า
A57: ประเภทรายจ่ายนี้
C58: รายจ่ายเกี่ยวเนื่องกับการปฏิบัติราชการที่ไม่เข้าลักษณะ
A59: รายจ่ายหมวดอื่นๆ
C60: ค่าใช้จ่ายในการเดินทางไปราชการ | E60: จำนวน | F60: 150000 | G60: บาท
C61: เพื่อจ่ายเป็นค่าอบรม ค่าเบี้ยเลี้ยง ค่ายานพาหนะ ค่าเช่าที่พัก
A62: ระหว่างเดินทางในประเทศ และต่างประเทศ ให้แก่ พนักงานเทศบาล ลูกจ้าง และ
A63: พนักงานจ้าง ที่มีความจำเป็นต้องเดินทางไปราชการ หรือมีการโอนย้าย หรือ
A64: เข้ารับการอบรมสัมมนา หรือสอบคัดเลือก และมีสิทธิตามระเบียบที่ทางราชการ
A65: กำหนด
C67: ค่าบำรุงรักษาและซ่อมแซม | E67: จำนวน | F67: 1000000 | G67: บาท
C68: เพื่อเป็นค่าใช้จ่ายในการบำรุง รักษา หรือซ่อมแซม ทรัพย์สิน
A69: เพื่อให้สามารถใช้งานได้ตามปกติ
C70: ค่าวัสดุ | E70: รวม | F70: =F71+F75+F78+F82+F86+F91+F95 -> 995000 | G70: บาท
C71: วัสดุสำนักงาน | E71: จำนวน | F71: 40000 | G71: บาท
C72: เพื่อจ่ายเป็นค่าจัดซื้อวัสดุ อุปกรณ์ และสิ่งของเครื่องใช้ต่างๆ เช่น
A73: กระดาษแฟ้ม ปากกา ดินสอ เก้าอี้ทำงาน โทรศัพท์ ตู้อเนกประสงค์ และอื่นๆ ที่เข้า
A74: ประเภทรายจ่ายนี้
C75: วัสดุไฟฟ้าและวิทยุ | E75: จำนวน | F75: 400000 | G75: บาท
C76: เพื่อจ่ายเป็นค่าจัดซื้อวัสดุไฟฟ้า และวิทยุ เช่น ฟิวส์ สายไฟปลั๊กไฟ
A77: ตลับแยกสายไฟ เบรกเกอร์ หลอดไฟฟ้า และอื่นๆ ที่เข้าประเภทรายจ่ายนี้
C78: วัสดุก่อสร้าง | E78: จำนวน | F78: 400000 | G78: บาท
C79: เพื่อจ่ายเป็นค่าจัดซื้อวัสดุก่อสร้าง เช่น ไม้ต่างๆ ปูนขาว ปูนซิเมนต์
A80: ทราย เหล็กเส้น ตะปู จอบ ท่อน้ำอุปกรณ์ประปา และ อื่นๆที่เข้าประเภท
A81: รายจ่ายนี้
C82: วัสดุยานพาหนะและขนส่ง | E82: จำนวน | F82: 50000 | G82: บาท
C83: เพื่อจ่ายเป็นค่าวัสดุ อุปกรณ์อะไหล่ต่างๆ ของยานพาหนะ เช่น ยาง
A84: นอก ยางใน อะไหล่รถจักรยานยนต์ แบตเตอรี่ หัวเทียนและอื่นๆ ที่เข้า
A85: ประเภทรายจ่ายนี้
C86: วัสดุเชื้อเพลิงและหล่อลื่น | E86: จำนวน | F86: 50000 | G86: บาท | J86: รถยนต์ 1 คัน | K86: 37200
C87: เพื่อจ่ายเป็นค่าวัสดุน้ำมันเชื้อเพลิงและหล่อลื่น สำหรับรถยนต์ | J87: รถเครื่อง 1 คัน | K87: 3600
A88: รถจักรยานยนต์ และเครื่องมือเครื่องใช้ที่ต้องใช้น้ำมันเชื้อเพลิงประกอบด้วย น้ำมัน | K88: =SUM(K86:K87) -> 40800
A89: เบนซิน แก๊สโซฮอล 95 น้ำมันเบนซินแก๊สโซฮอล 91 น้ำมันเครื่อง และอื่นๆ ที่เข้า
A90: ประเภทรายจ่ายนี้
C91: วัสดุคอมพิวเตอร์ | E91: จำนวน | F91: 50000 | G91: บาท
C92: เพื่อจ่ายเป็นค่าวัสดุคอมพิวเตอร์ เช่น หมึกคอมพิวเตอร์ กระดาษ
A93: ต่อเนื่อง เมาส์ แป้นพิมพ์ แผ่นซีดี/ดีวีดีหรือจานบันทึกข้อมูล และอื่นๆที่เข้าประเภท
A94: รายจ่ายนี้
C95: วัสดุสำรวจ | E95: จำนวน | F95: 5000 | G95: บาท
C96: เพื่อจ่ายเป็นค่าจัดซื้อวัสดุสำรวจเช่น บันไดอลูมิเนียม เทปวัดระยะ
A97: ตลับเมตร และอื่นๆที่เข้าประเภทรายจ่ายนี้
C100: ค่าสาธารณูปโภค | E100: รวม | F100: =F101 -> 200000 | G100: บาท
C101: ค่าไฟฟ้า | E101: จำนวน | F101: 200000 | G101: บาท
C102: เพื่อจ่ายเป็นค่ากระแสไฟฟ้า สำหรับประปาหมู่บ้านที่อยู่ในความ
A103: ดูแลของเทศบาล
...

Sheet สร้างความเข้มแข็งของชุมชน
A1: รายงานรายละเอียดประมาณการรายจ่ายงบประมาณรายจ่ายทั่วไป
A2: ประจำปีงบประมาณ พ.ศ.2561
A3: เทศบาลตำบลพนางตุง
A4: อำเภอควนขนุน จังหวัดพัทลุง
A5: แผนงานสร้างความเข้มแข็งของชุมชน
A6: งานส่งเสริมและสนับสนุนความเข้มแข็งชุมชน | E6: รวม | F6: =F7 -> 70000 | G6: บาท | K6: =F6 -> 70000
B7: งบดำเนินงาน | E7: รวม | F7: =F8 -> 70000 | G7: บาท
C8: ค่าใช้สอย | E8: รวม | F8: =F11+F16 -> 70000 | G8: บาท
C9: รายจ่ายเกี่ยวเนื่องกับการปฏิบัติราชการที่ไม่เข้าลักษณะ
A10: รายจ่ายหมวดอื่นๆ
C11: โครงการครอบครัวสัมพันธ์ | E11: จำนวน | F11: 20000 | G11: บาท
C12: เพื่อจ่ายเป็นค่าดำเนินงานตามโครงการ ครอบครัวสัมพันธ์ เช่น
A13: ค่าสมนาคุณวิทยากร ค่าอาหาร ค่าอาหารว่างและเครื่องดื่ม ค่าวัสดุ เครื่องเขียน
A14: และอุปกรณ์ ค่าป้ายโครงการ เอกสารประชาสัมพันธ์ ค่ายานพาหนะ และค่าใช้จ่าย
A15: อื่นที่จำเป็นในการจัดโครงการ
C16: โครงการฝึกอบรมกลุ่มอาชีพ | E16: จำนวน | F16: 50000 | G16: บาท
C17: เพื่อจ่ายเป็นค่าดำเนินงานตามโครงการ ฝึกอบรมกลุ่มอาชีพ แก้
A18: ปัญหาการว่างงาน และส่งเสริมการประกอบอาชีพของประชาชน เช่น ค่าสมนาคุณ
A19: วิทยากร ค่าอาหาร ค่าอาหารว่างและเครื่องดื่ม ค่าวัสดุ เครื่องเขียน และอุปกรณ์
A20: ค่าป้ายโครงการ เอกสารประชาสัมพันธ์ ค่าใช้จ่ายในพิธีเปิด และค่าใช้จ่ายอื่นที่
A21: จำเป็นในการฝึกอบรม

Sheet การศาสนาวัฒนธรรมและนันทนาการ
A1: รายงานรายละเอียดประมาณการรายจ่ายงบประมาณรายจ่ายทั่วไป
A2: ประจำปีงบประมาณ พ.ศ.2561
A3: เทศบาลตำบลพนางตุง
A4: อำเภอควนขนุน จังหวัดพัทลุง
A5: แผนงานการศาสนาวัฒนธรรมและนันทนาการ
A6: งานกีฬาและนันทนาการ | E6: รวม | F6: =F7 -> 400000 | G6: บาท
B7: งบดำเนินงาน | E7: รวม | F7: =F8 -> 400000 | G7: บาท
C8: ค่าใช้สอย | E8: รวม | F8: =F11+F16 -> 400000 | G8: บาท
C9: รายจ่ายเกี่ยวเนื่องกับการปฏิบัติราชการที่ไม่เข้าลักษณะ
A10: รายจ่ายหมวดอื่นๆ
C11: โครงการแข่งขันกีฬาต้านยาเสพติด | E11: จำนวน | F11: 250000 | G11: บาท
C12: เพื่อจ่ายเป็นค่าดำเนินงาน ตามโครงการแข่งขันกีฬาต้านยาเสพติด
A13: เช่น ค่าอุปกรณ์กีฬา ค่าถ้วยรางวัล ค่าเหรียญรางวัล ค่าวัสดุ อุปกรณ์ ค่าอาหาร
A14: ค่าอาหารและเครื่องดื่ม ค่าเวชภัณฑ์ ค่าตอบแทนกรรมการตัดสินกีฬา และ
A15: ค่าใช้จ่ายอื่นที่จำเป็นในการจัดโครงการ
C16: โครงการส่งนักกีฬาเข้าร่วมการแข่งขันในนามของเทศบาล | E16: จำนวน | F16: 150000 | G16: บาท
C17: เพื่อจ่ายเป็นค่าใช้จ่ายในการจัดส่งนักกีฬา นักกรีฑา เข้าร่วม
A18: แข่งขันในนามของเทศบาล และในนามของเทศบาลจัดร่วมกับอำเภอ เช่น กีฬาศูนย์
A19: พัฒนาเด็กเล็ก กีฬาไทคัพ กีฬาท้องถิ่นสัมพันธ์ กีฬาเทศบาลสัมพันธ์ ฯลฯ เพื่อจ่าย
A20: เป็นค่าอุปกรณ์กีฬา ค่าอาหาร ค่าอาหารและเครื่องดื่ม วันแข่งขันกีฬา และวันฝึก
A21: ซ้อม ค่าเวชภัณฑ์ ค่ายานพาหนะในการรับ -ส่งนักกีฬา ค่าชุดกีฬา ค่าวัสดุ อุปกรณ์
A22: และค่าใช้จ่ายอื่นที่จำเป็นในการจัดโครงการ
A24: งานศาสนาวัฒนธรรมท้องถิ่น | E24: รวม | F24: =F25 -> 175000 | G24: บาท
B25: งบดำเนินงาน | E25: รวม | F25: =F26 -> 175000 | G25: บาท
C26: ค่าใช้สอย | E26: รวม | F26: =F29+F34 -> 175000 | G26: บาท
C27: รายจ่ายเกี่ยวเนื่องกับการปฏิบัติราชการที่ไม่เข้าลักษณะ
A28: รายจ่ายหมวดอื่นๆ
C29: โครงการจัดงานประเพณีชักพระ | E29: จำนวน | F29: 25000 | G29: บาท
C30: เพื่อจ่ายเป็นค่าดำเนินงาน ตามโครงการจัดงานประเพณีชักพระ
A31: เช่น ค่าจ้างเหมาตกแต่งสถานที่ ค่าป้ายโครงการ ค่าเช่าเครื่องเสียง ค่าจ้างเหมาไฟ
A32: ประดับ ค่าอาหารว่างและเครื่องดื่ม และค่าใช้จ่ายอื่นที่จำเป็นในการจัดโครงการ
C34: โครงการจัดงานประเพณีวันลอยกระทง | E34: จำนวน | F34: 150000 | G34: บาท
C35: เพื่อจ่ายเป็นค่าดำเนินงาน ตามโครงการจัดงานประเพณีวันลอย
A36: กระทง เช่น เงินรางวัล การประกวดนางนพมาศ และประกวดกระทง ค่าจ้างเหมา
A37: ไฟประดับ ค่ามหรสพการแสดงต่างๆ ค่าตอบแทน ค่าของที่ระลึกสำหรับคณะกรรม
A38: การ และผู้เข้าประกวดนางนพมาศ ค่าอุปกรณ์ในการประดิษฐ์กระทง และค่าใช้จ่าย
A39: อื่นที่จำเป็นในการจัดโครงการ
A41: งานวิชาการวางแผนและส่งเสริมการท่องเที่ยว | E41: รวม | F41: =F42 -> 550000 | G41: บาท
B42: งบดำเนินงาน | E42: รวม | F42: =F43 -> 550000 | G42: บาท
C43: ค่าใช้สอย | E43: รวม | F43: =F46+F55 -> 550000 | G43: บาท
C44: รายจ่ายเกี่ยวเนื่องกับการปฏิบัติราชการที่ไม่เข้าลักษณะ
A45: รายจ่ายหมวดอื่นๆ
C46: โครงการจัดงานเทศกาลล่องเรือ แลนก ทะเลน้อย | E46: จำนวน | F46: 500000 | G46: บาท
C47: เพื่อจ่ายเป็นค่าดำเนินงาน ตามโครงการจัดงานเทศกาล ล่องเรือ
A48: แลนก ทะเลน้อย ประจำปี 2561 เช่น ค่าวัสดุ อุปกรณ์ ค่าป้ายโครงการ ค่าสมนาคุณ
A49: วิทยากร ค่าอาหาร ค่าอาหารว่างและเครื่องดื่ม ค่าใช้จ่ายเกี่ยวกับการใช้และการ
A50: ตกแต่งสถานที่ ค่าใช้จ่ายในพิธีเปิด ค่าจ้างเหมาเครื่องขยายเสียง ค่ามหรสพการ
A51: แสดงต่างๆ ค่าจัดนิทรรศการ สื่อประชาสัมพันธ์ ค่าใช้จ่ายในการจัดงานแถลงข่าว
A52: ค่าใช้จ่ายในการจัดประกวดภาพถ่าย ค่าใช้จ่ายในการจัดการแข่งขันวิ่ง ค่าใช้จ่ายใน
A53: การจัดการปั่นจักรยานและค่าใช้จ่ายอื่นที่จำเป็นในการจัดโครงการ
A54: (สำนักปลัดเทศบาล)
C55: โครงการเดินพาน แลชุมชน คนเลน้อย | E55: จำนวน | F55: 50000 | G55: บาท
C56: เพื่อจ่ายเป็นค่าดำเนินงาน ตามโครงการเดินพาน แลชุมชน
A57: คนเลน้อย (หลาดหัวลาน-หัวเลี้ยว เที่ยวให้ถึงทะเลน้อย) เช่น ค่าวัสดุ อุปกรณ์
A58: ค่าตกแต่งอาคารสถานที่ ค่าจัดทำสื่อประชาสัมพันธ์ ค่าจ้างเหมาการแสดง
A59: ค่าสมนาคุณวิทยากร ค่าใช้จ่ายอื่นที่จำเป็นในการจัดโครงการ (สำนักปลัดเทศบาล)

Sheet อุตสาหกรรมและการโยธา
A1: รายงานรายละเอียดประมาณการรายจ่ายงบประมาณรายจ่ายทั่วไป
A2: ประจำปีงบประมาณ พ.ศ.2560
A3: เทศบาลตำบลพนางตุง
A4: อำเภอควนขนุน จังหวัดพัทลุง
A5: แผนงานอุตสาหกรรมและการโยธา
A6: งานก่อสร้างโครงสร้างพื้นฐาน | E6: รวม | F6: =F7 -> 0 | G6: บาท | K6: =F6 -> 0
B7: งบลงทุน | E7: รวม | F7: =F8 -> 0 | G7: บาท
C8: ค่าที่ดินและสิ่งก่อสร้าง | E8: รวม | F8: =F9 -> 0 | G8: บาท
C9: ค่าก่อสร้างสิ่งสาธารณูปโภค | E9: รวม | F9: =F10+F19+F25 -> 0 | G9: บาท
C10: (1) ค่าก่อสร้างถนนคอนกรีตเสริมเหล็ก สายบ้านนายคำนวณ- | E10: จำนวน | G10: บาท
A11: เหมืองชลประทาน
C12: เพื่อจ่ายเป็นค่าก่อสร้างถนนคอนกรีตเสริมเหล็ก สายบ้านนาย
A13: คำนวณ หมู่ที่ 6 ช่วงที่ 1 ก่อสร้างถนนคอนกรีตเสริมเหล็กขนาด กว้าง 4 เมตร
A14: ยาว 966 เมตร หนา 0.15 เมตร หรือมีพื้นที่ไม่น้อยกว่า 3,864 ตารางเมตร
A15: ไหล่ทางดินถมข้างละ 0.20 เมตร ช่วงที่ 2 ก่อสร้างถนนคอนกรีตเสริมเหล็กขนาด
A16: กว้าง 4 เมตร ยาว 35 เมตร หนา 0.15 เมตร หรือมีพื้นที่ไม่น้อยกว่า 140 ตาราง
A17: เมตร ไม่มีไหล่ทาง รายละเอียดปรากฏตามรูปแบบรายการของเทศบาลตำบล
A18: พนางตุง
C19: (2) ค่าก่อสร้างถนนคอนกรีตเสริมเหล็ก สายบ้านนายอวบ- | E19: จำนวน | G19: บาท
A20: บ้านนายวิเชียร
C21: เพื่อจ่ายเป็นค่าก่อสร้างถนนคอนกรีตเสริมเหล็ก สายบ้านนายอวบ-
A22: บ้านนายวิเชียร หมู่ที่ 12 ผิวจราจรกว้าง 4 เมตร ยาว 500 เมตร หนา 0.15 เมตร
A23: หรือมีพื้นที่ไม่น้อยกว่า 2,000 ตารางเมตร ไหล่ทางหินคลุกข้างละ 0.50 เมตร ราย
A24: ละเอียดปรากฎตามรูปแบบรายการของเทศบาลตำบลพนางตุง
C25: (3) ค่าก่อสร้างสะพานคนเดินสายศาลาอิ้ง-บ้านนายดิ้ม | E25: จำนวน | G25: บาท
C26: เพื่อก่อสร้างสะพานคนเดินสายศาลาอิ้ง-บ้านนายดิ้ม หมู่ที่ 1
A27: ดำเนินการรื้อพื้นเสาสะพานเดิมออกเว้นฐานรากเดิมแล้วก่อสร้างใหม่ขนาดพื้นทาง
A28: เดินกว้าง 1.50 เมตร หนา 0.10 เมตร ระยะห่างระหว่างเสา 4 เมตร ยาว 500 เมตร
A29: โดยให้ฐานรากใหม่ตั้งบนฐานรากเดิม รายละเอียดปรากฏตามรูปแบบรายการของ
A30: เทศบาลตำบลพนางตุง

Sheet การเกษตร
A1: รายงานรายละเอียดประมาณการรายจ่ายงบประมาณรายจ่ายทั่วไป
A2: ประจำปีงบประมาณ พ.ศ.2561
A3: เทศบาลตำบลพนางตุง
A4: อำเภอควนขนุน จังหวัดพัทลุง
A5: แผนงานการเกษตร
A6: งานส่งเสริมการเกษตร | E6: รวม | F6: 2090000 | G6: บาท | K6: =F6+#REF! -> #REF!
B7: งบดำเนินงาน | E7: รวม | F7: 2090000 | G7: บาท
C8: ค่าใช้สอย | E8: รวม | F8: =F11+F15 -> 90000 | G8: บาท
C9: รายจ่ายเกี่ยวเนื่องกับการปฏิบัติราชการที่ไม่เข้าลักษณะ
A10: รายจ่ายหมวดอื่นๆ
C11: โครงการจัดทำแนวเขตและอนุรักษ์พันธุ์สัตว์น้ำจืด | E11: จำนวน | F11: 50000 | G11: บาท
C12: เพื่อจ่ายเป็นค่าดำเนินงาน ตามโครงการจัดทำแนวเขตและอนุรักษ์
A13: พันธุ์สัตว์น้ำจืดในจ่ายเป็นค่าป้ายโครงการ ค่าอาหารสำหรับอนุบาลพันธุ์สัตว์น้ำ
A14: จืด ค่าตาข่าย ค่าไม้ปักแนว และค่าใช้จ่ายอื่นที่จำเป็นในการจัดโครงการ
C15: โครงการพัฒนาศักยภาพการดำเนินงานของศูนย์ถ่ายทอด | E15: จำนวน | F15: 40000 | G15: บาท
A16: เทคโนโลยีทางการเกษตรประจำตำบลพนางตุง
C17: เพื่อจ่ายเป็นค่าดำเนินงาน ตามโครงการพัฒนาศักยภาพการดำเนิน
A18: งานของศูนย์ถ่ายทอดเทคโนโลยีทางการเกษตรประจำตำบลพนางตุง จ่ายเป็น
A19: ค่าเบี้ยประชุมของคณะกรรมการศูนย์ ค่าจัดทำสื่อประชาสัมพันธ์ ค่าอาหารว่าง
A20: และเครื่องดื่ม ค่าอาหาร ค่ายานพาหนะ ค่าสมนาคุณวิทยากร ค่าจัดทำป้ายโครงการ
A21: ค่าของสมนาคุณในการดูงาน และค่าใช้จ่ายอื่นที่จำเป็นในการจัดโครงการ
C22: ค่าสาธารณูปโภค | E22: รวม | F22: =F23 -> 2000000 | G22: บาท
C23: ค่าไฟฟ้า | E23: จำนวน | F23: 2000000 | G23: บาท
C24: เพื่อจ่ายเป็นค่าไฟฟ้า สำหรับสถานีสูบน้ำด้วยพลังไฟฟ้า
A25: ที่อยู่ในความดูแลของเทศบาล

Sheet การพาณิชย์
A1: รายงานรายละเอียดประมาณการรายจ่ายงบประมาณรายจ่ายทั่วไป
A2: ประจำปีงบประมาณ พ.ศ.2559
A3: เทศบาลตำบลพนางตุง
A4: อำเภอควนขนุน จังหวัดพัทลุง
A5: แผนงานการพาณิชย์
A6: งานกิจการประปา | E6: รวม | G6: บาท
B7: งบลงทุน | E7: รวม | G7: บาท
C8: ค่าที่ดินและสิ่งก่อสร้าง | E8: รวม | G8: บาท
C9: ค่าก่อสร้างสิ่งสาธารณูปโภค
C10: ค่าก่อสร้างระบบประปา | E10: จำนวน | G10: บาท
C11: เพื่อจ่ายเป็นค่าก่อสร้างระบบประปา แบบหอถังเหล็กเก็บน้ำ
A12: 20 ลบ.ม. ชนิดมีเสาเข็ม หมู่ที่ 5 รายละเอียดปรากฎตามรูปแบบรายการของ
A13: เทศบาลตำบลพนางตุง

Sheet Sheet1
